BEGIN:VCALENDAR
VERSION:2.0
PRODID:-//ChamberMaster//Event Calendar 2.0//EN
METHOD:PUBLISH
X-PUBLISHED-TTL:P3D
REFRESH-INTERVAL:P3D
CALSCALE:GREGORIAN
BEGIN:VEVENT
DTSTART:20180114T200000Z
DTEND:20180114T200000Z
X-MICROSOFT-CDO-ALLDAYEVENT:FALSE
SUMMARY:Toys for Tots
DESCRIPTION:Gargoyle Tattoo and The Modified Dolls WA have joined forces to help the children of our community have a happy holiday. From Nov 14th to Dec 14th you can drop off new unwrapped toys at Gargoyle Tattoo (115 S H St\, Aberdeen) between 12-7 Tues-Sat For information on applying to receive toys for your family please visit toys for tots official website.
X-ALT-DESC;FMTTYPE=text/html:Gargoyle Tattoo and The Modified Dolls WA have joined forces to help the children of our community have a happy holiday. From <strong>Nov 14th to Dec 14th</strong> you can drop off new unwrapped toys at Gargoyle Tattoo (115 S H St\, Aberdeen) between 12-7 Tues-Sat For information on applying to receive toys for your family please visit toys for tots official website.
LOCATION:115 S H St\, Aberdeen\, WA
UID:e.26.8349
SEQUENCE:3
DTSTAMP:20260425T145856Z
URL:https://chamber.graysharbor.org/events/details/toys-for-tots-01-14-2018-8349
END:VEVENT

END:VCALENDAR
