BEGIN:VCALENDAR
VERSION:2.0
PRODID:-//ChamberMaster//Event Calendar 2.0//EN
METHOD:PUBLISH
X-PUBLISHED-TTL:P3D
REFRESH-INTERVAL:P3D
CALSCALE:GREGORIAN
BEGIN:VEVENT
DTSTART:20180316T190000Z
DTEND:20180316T190000Z
X-MICROSOFT-CDO-ALLDAYEVENT:FALSE
SUMMARY:Transit Driver Appreciation Day
DESCRIPTION:National Transit Driver Appreciation Day #TDAD\nJoin Grays Harbor Transit in showing our Transit Drivers how they are greatly appreciated.\n\nhttp://transitdriverday.org/
X-ALT-DESC;FMTTYPE=text/html:National Transit Driver Appreciation Day #TDAD\nJoin Grays Harbor Transit in showing our Transit Drivers how they are greatly appreciated.\n\nhttp://transitdriverday.org/
LOCATION:Grays Harbor Transit
UID:e.26.9540
SEQUENCE:3
DTSTAMP:20260425T130916Z
URL:https://chamber.graysharbor.org/events/details/transit-driver-appreciation-day-9540
END:VEVENT

END:VCALENDAR
