BEGIN:VCALENDAR
VERSION:2.0
PRODID:-//ChamberMaster//Event Calendar 2.0//EN
METHOD:PUBLISH
X-PUBLISHED-TTL:P3D
REFRESH-INTERVAL:P3D
CALSCALE:GREGORIAN
BEGIN:VEVENT
DTSTART:20200222T180000Z
DTEND:20200222T210000Z
X-MICROSOFT-CDO-ALLDAYEVENT:FALSE
SUMMARY:Tree Planting Party
DESCRIPTION:The Grays Harbor Stream Team will be partnering with the Grays Harbor Conservation District to plant trees and shrubs at the Washington Fish and Wildlife property off of Keys Road in Elma\, WA. The site we will be planting at has been restored for amphibian habitat and is a really interesting site to see and plant at. \n\n\n\nWe will have coffee\, donuts\, snacks\, and water along with all the necessary tools.\n\n\n\nHope to see you there!
X-ALT-DESC;FMTTYPE=text/html:<span style="font-size:14px\;"><span style="font-family:arial\;">The Grays Harbor Stream Team&nbsp\;<span style="caret-color: rgb(29\, 33\, 41)\; color: rgb(29\, 33\, 41)\; white-space: pre-wrap\;">will be partnering with the Grays Harbor Conservation District to plant trees and shrubs at the Washington Fish and Wildlife property off of Keys Road in Elma\, WA. The site we will be planting at has been restored for amphibian habitat and is a really interesting site to see and plant at. </span><br style="caret-color: rgb(29\, 33\, 41)\; color: rgb(29\, 33\, 41)\; font-family: system-ui\, -apple-system\, BlinkMacSystemFont\, &quot\;.SFNSText-Regular&quot\;\, sans-serif\; font-size: 14px\; white-space: pre-wrap\;" />\n<br style="caret-color: rgb(29\, 33\, 41)\; color: rgb(29\, 33\, 41)\; font-family: system-ui\, -apple-system\, BlinkMacSystemFont\, &quot\;.SFNSText-Regular&quot\;\, sans-serif\; font-size: 14px\; white-space: pre-wrap\;" />\n<span style="caret-color: rgb(29\, 33\, 41)\; color: rgb(29\, 33\, 41)\; white-space: pre-wrap\;">We will have coffee\, donuts\, snacks\, and water along with all the necessary tools.</span><br style="caret-color: rgb(29\, 33\, 41)\; color: rgb(29\, 33\, 41)\; font-family: system-ui\, -apple-system\, BlinkMacSystemFont\, &quot\;.SFNSText-Regular&quot\;\, sans-serif\; font-size: 14px\; white-space: pre-wrap\;" />\n<br style="caret-color: rgb(29\, 33\, 41)\; color: rgb(29\, 33\, 41)\; font-family: system-ui\, -apple-system\, BlinkMacSystemFont\, &quot\;.SFNSText-Regular&quot\;\, sans-serif\; font-size: 14px\; white-space: pre-wrap\;" />\n<span style="caret-color: rgb(29\, 33\, 41)\; color: rgb(29\, 33\, 41)\; white-space: pre-wrap\;">Hope to see you there!</span></span></span>
LOCATION:pin 110 Keys Rd W\, Elma\, WA 98541-9124\, United States
UID:e.26.12343
SEQUENCE:3
DTSTAMP:20260424T012856Z
URL:https://chamber.graysharbor.org/events/details/tree-planting-party-12343
END:VEVENT

END:VCALENDAR
