BEGIN:VCALENDAR
VERSION:2.0
PRODID:-//ChamberMaster//Event Calendar 2.0//EN
METHOD:PUBLISH
X-PUBLISHED-TTL:P3D
REFRESH-INTERVAL:P3D
CALSCALE:GREGORIAN
BEGIN:VEVENT
DTSTART:20181027T210000Z
DTEND:20181027T223000Z
X-MICROSOFT-CDO-ALLDAYEVENT:FALSE
SUMMARY:Trick-or-Treat Oyhut Bay
DESCRIPTION:Come out to Oyhut Bay for some trick-or-treating fun!
X-ALT-DESC;FMTTYPE=text/html:<div class="_63ew" data-testid="event-permalink-details" style="background-color: transparent\; color: rgb(29\, 33\, 41)\; font-family: Helvetica\,Arial\,sans-serif\; font-size: 14px\; font-style: normal\; font-variant: normal\; font-weight: 400\; letter-spacing: normal\; orphans: 2\; text-align: left\; text-decoration: none\; text-indent: 0px\; text-transform: none\; -webkit-text-stroke-width: 0px\; white-space: normal\; word-spacing: 0px\;"><span style="font-family: Helvetica\,Arial\,sans-serif\;">Come out to Oyhut Bay for some trick-or-treating fun!</span></div>\n
LOCATION:Oyhut Bay Ocean Shores\, WA
UID:e.26.11308
SEQUENCE:3
DTSTAMP:20260425T015731Z
URL:https://chamber.graysharbor.org/events/details/trick-or-treat-oyhut-bay-11308
END:VEVENT

END:VCALENDAR
