BEGIN:VCALENDAR
VERSION:2.0
PRODID:-//ChamberMaster//Event Calendar 2.0//EN
METHOD:PUBLISH
X-PUBLISHED-TTL:P3D
REFRESH-INTERVAL:P3D
CALSCALE:GREGORIAN
BEGIN:VEVENT
DTSTART:20181027T200000Z
DTEND:20181027T230000Z
X-MICROSOFT-CDO-ALLDAYEVENT:FALSE
SUMMARY:Trick-or-Treat the Mall and Costume Contest
DESCRIPTION:Trick-or-treat the mall will take place from 1pm - 3:30pm\, followed by a costume contest at 3:30pm at the Extreme Fun Center! Show up in your best costume and enjoy a day of fun for the whole family.\n\n Free jack-o-lantern lanyard for the first 100 kids who show up in costume for the costume contestt!
X-ALT-DESC;FMTTYPE=text/html:Trick-or-treat the mall will take place from 1pm - 3:30pm\, followed by a costume contest at 3:30pm at the Extreme Fun Center! Show up in your best costume and enjoy a day of fun for the whole family.<br />\n&#8203\;Free jack-o-lantern lanyard for the first 100 kids who show up in costume for the costume contestt!
LOCATION:Shoppes at Riverside (formerly SouthShore Mall) Aberdeen\, WA
UID:e.26.11284
SEQUENCE:3
DTSTAMP:20260425T002353Z
URL:https://chamber.graysharbor.org/events/details/trick-or-treat-the-mall-and-costume-contest-11284
END:VEVENT

END:VCALENDAR
