BEGIN:VCALENDAR
VERSION:2.0
PRODID:-//ChamberMaster//Event Calendar 2.0//EN
METHOD:PUBLISH
X-PUBLISHED-TTL:P3D
REFRESH-INTERVAL:P3D
CALSCALE:GREGORIAN
BEGIN:VEVENT
DTSTART:20191102T170000Z
DTEND:20191102T233000Z
X-MICROSOFT-CDO-ALLDAYEVENT:FALSE
SUMMARY:Trinkets & Treasure Holiday Bazaar
DESCRIPTION:Add the Trinkets & Treasure Holiday Bazaar to your calendar for November 2nd! This is a multi-vendor holiday shopping event\, featuring photos with Santa\, gifts\, tasty treats and lots of fun in one great location! FREE hot cider and cocoa. See you in Hometown Hoquiam!
X-ALT-DESC;FMTTYPE=text/html:<span style="caret-color: rgb(29\, 33\, 41)\; color: rgb(29\, 33\, 41)\; font-family: system-ui\, -apple-system\, BlinkMacSystemFont\, &quot\;.SFNSText-Regular&quot\;\, sans-serif\; font-size: 14px\; white-space: pre-wrap\;">Add the Trinkets &amp\; Treasure Holiday Bazaar to your calendar for November 2nd! This is a multi-vendor holiday shopping event\, featuring photos with Santa\, gifts\, tasty treats and lots of fun in one great location! FREE hot cider and cocoa. See you in Hometown Hoquiam!</span>
LOCATION:pin Hoquiam Elks Lodge #1082 624 K St\, Hoquiam\, Washington 98550
UID:e.26.12220
SEQUENCE:3
DTSTAMP:20260424T041916Z
URL:https://chamber.graysharbor.org/events/details/trinkets-treasure-holiday-bazaar-12220
END:VEVENT

END:VCALENDAR
