BEGIN:VCALENDAR
VERSION:2.0
PRODID:-//ChamberMaster//Event Calendar 2.0//EN
METHOD:PUBLISH
X-PUBLISHED-TTL:P3D
REFRESH-INTERVAL:P3D
CALSCALE:GREGORIAN
BEGIN:VEVENT
DTSTART:20170805T170000Z
DTEND:20170806T220000Z
X-MICROSOFT-CDO-ALLDAYEVENT:FALSE
SUMMARY:Trinkets & Treasures Summer Market
DESCRIPTION:We're planning another\, bigger event at the Polson Museum. With unique\, original vendors inside\, outside\, and in the shop!\n\n\n\nStay tuned for more updates as we finalize the details!\n\n\n\nhttps://www.facebook.com/events/1392585854112512/?acontext=%7B%22ref%22%3A%2257%22%2C%22ref_dashboard_filter%22%3A%22upcoming%22%2C%22action_history%22%3A%22[%7B%5C%22surface%5C%22%3A%5C%22dashboard%5C%22%2C%5C%22mechanism%5C%22%3A%5C%22suggested_events_hscroll%5C%22%2C%5C%22extra_data%5C%22%3A[]%7D]%22%7D
X-ALT-DESC;FMTTYPE=text/html:<span class="_4n-j _3cht fsl" data-testid="event-permalink-details">We&#39\;re planning another\, bigger event at the Polson Museum. With unique\, original vendors inside\, outside\, and in the shop!<br />\n<br />\nStay tuned for more updates as we finalize the details!</span><br />\n<br />\n<a href="https://www.facebook.com/events/1392585854112512/?acontext=%7B%22ref%22%3A%2257%22%2C%22ref_dashboard_filter%22%3A%22upcoming%22%2C%22action_history%22%3A%22[%7B%5C%22surface%5C%22%3A%5C%22dashboard%5C%22%2C%5C%22mechanism%5C%22%3A%5C%22suggested_events_hscroll%5C%22%2C%5C%22extra_data%5C%22%3A[]%7D]%22%7D">https://www.facebook.com/events/1392585854112512/?acontext=%7B%22ref%22%3A%2257%22%2C%22ref_dashboard_filter%22%3A%22upcoming%22%2C%22action_history%22%3A%22[%7B%5C%22surface%5C%22%3A%5C%22dashboard%5C%22%2C%5C%22mechanism%5C%22%3A%5C%22suggested_events_hscroll%5C%22%2C%5C%22extra_data%5C%22%3A[]%7D]%22%7D</a>
LOCATION:Polson Museum 1611 Riverside Ave Hoquiam\, WA 98550
UID:e.26.7741
SEQUENCE:3
DTSTAMP:20260426T003203Z
URL:https://chamber.graysharbor.org/events/details/trinkets-treasures-summer-market-7741
END:VEVENT

END:VCALENDAR
