BEGIN:VCALENDAR
VERSION:2.0
PRODID:-//ChamberMaster//Event Calendar 2.0//EN
METHOD:PUBLISH
X-PUBLISHED-TTL:P3D
REFRESH-INTERVAL:P3D
CALSCALE:GREGORIAN
BEGIN:VEVENT
DTSTART:20190524T223000Z
DTEND:20190524T233000Z
X-MICROSOFT-CDO-ALLDAYEVENT:FALSE
SUMMARY:Triple Seabrook Ribbon Cutting
DESCRIPTION:Greater Grays Harbor will be assisting in THREE ribbon cuttings for the newly opened Seabrook storefronts! \n\n\n\n \n\n\n\nThe first will take place at Brooklets Toys at 3 pm\, the second is at Joie Des Livres (The Joy of Books) at 3:30 pm\, and the third will be at Magnolia at 4 pm! Their addresses are: 208 Market St.\, 216 Market St. & 212 Market St. in Pacific Beach.\n\n\n\n \n\n\n\nStop by and join us before checking out these three fantastic new businesses now open on Market Street!
X-ALT-DESC;FMTTYPE=text/html:<div data-block="true" data-editor="80a48" data-offset-key="3jcev-0-0" style="font-family: system-ui\, -apple-system\, BlinkMacSystemFont\, &quot\;.SFNSText-Regular&quot\;\, sans-serif\; caret-color: rgb(28\, 30\, 33)\; color: rgb(28\, 30\, 33)\; font-size: 12px\; white-space: pre-wrap\;">\n<div class="_1mf _1mj" data-offset-key="3jcev-0-0" style="position: relative\; direction: ltr\; font-family: inherit\;"><span style="font-size:14px\;"><span data-offset-key="3jcev-0-0" style="font-family: inherit\;">Greater Grays Harbor will be assisting in THREE ribbon cuttings for the newly opened Seabrook storefronts! </span></span></div>\n</div>\n\n<div data-block="true" data-editor="80a48" data-offset-key="8u84n-0-0" style="font-family: system-ui\, -apple-system\, BlinkMacSystemFont\, &quot\;.SFNSText-Regular&quot\;\, sans-serif\; caret-color: rgb(28\, 30\, 33)\; color: rgb(28\, 30\, 33)\; font-size: 12px\; white-space: pre-wrap\;">\n<div class="_1mf _1mj" data-offset-key="8u84n-0-0" style="position: relative\; direction: ltr\; font-family: inherit\;">&nbsp\;</div>\n</div>\n\n<div data-block="true" data-editor="80a48" data-offset-key="60vlg-0-0" style="font-family: system-ui\, -apple-system\, BlinkMacSystemFont\, &quot\;.SFNSText-Regular&quot\;\, sans-serif\; caret-color: rgb(28\, 30\, 33)\; color: rgb(28\, 30\, 33)\; font-size: 12px\; white-space: pre-wrap\;">\n<div class="_1mf _1mj" data-offset-key="60vlg-0-0" style="position: relative\; direction: ltr\; font-family: inherit\;"><span style="font-size:14px\;"><span data-offset-key="60vlg-0-0" style="font-family: inherit\;">The first will take place at Brooklets Toys at 3 pm\, the second is at Joie Des Livres (The Joy of Books) at 3:30 pm\, and the third will be at Magnolia at 4 pm! Their addresses are: 208 Market St.\, 216 Market St. &amp\; 212 Market St. in Pacific Beach.</span></span></div>\n</div>\n\n<div data-block="true" data-editor="80a48" data-offset-key="clkf9-0-0" style="font-family: system-ui\, -apple-system\, BlinkMacSystemFont\, &quot\;.SFNSText-Regular&quot\;\, sans-serif\; caret-color: rgb(28\, 30\, 33)\; color: rgb(28\, 30\, 33)\; font-size: 12px\; white-space: pre-wrap\;">\n<div class="_1mf _1mj" data-offset-key="clkf9-0-0" style="position: relative\; direction: ltr\; font-family: inherit\;">&nbsp\;</div>\n</div>\n\n<div data-block="true" data-editor="80a48" data-offset-key="ai1al-0-0" style="font-family: system-ui\, -apple-system\, BlinkMacSystemFont\, &quot\;.SFNSText-Regular&quot\;\, sans-serif\; caret-color: rgb(28\, 30\, 33)\; color: rgb(28\, 30\, 33)\; font-size: 12px\; white-space: pre-wrap\;">\n<div class="_1mf _1mj" data-offset-key="ai1al-0-0" style="position: relative\; direction: ltr\; font-family: inherit\;"><span style="font-size:14px\;"><span data-offset-key="ai1al-0-0" style="font-family: inherit\;">Stop by and join us before checking out these three fantastic new businesses now open on Market Street!</span></span></div>\n</div>\n
LOCATION:Market Streeet - Seabrook Pacific Beach\, WA
UID:e.26.12000
SEQUENCE:3
DTSTAMP:20260424T132928Z
URL:https://chamber.graysharbor.org/events/details/triple-seabrook-ribbon-cutting-12000
END:VEVENT

END:VCALENDAR
