BEGIN:VCALENDAR
VERSION:2.0
PRODID:-//ChamberMaster//Event Calendar 2.0//EN
METHOD:PUBLISH
X-PUBLISHED-TTL:P3D
REFRESH-INTERVAL:P3D
CALSCALE:GREGORIAN
BEGIN:VEVENT
DTSTART;VALUE=DATE:20170920
DTEND;VALUE=DATE:20170921
TRANSP:TRANSPARENT
X-MICROSOFT-CDO-ALLDAYEVENT:TRUE
SUMMARY:Trivia & Date Night at Steam Donkey Brewing Company
DESCRIPTION:Trivia & Date Night at Steam Donkey Brewing Company\nA fundraiser for Raindrops Cooperative Preschool\, come test your trivia for prizes and enjoy a date night at Steam Donkey Brewing Company downtown Aberdeen\, Wednesday September 20th 6-8pm. Tickets are $25/couple include appitizers! Buy your tickets during open business hours at Steam Donkey Brewing Company Thursday - Sunday.
X-ALT-DESC;FMTTYPE=text/html:<h1 class="_5gmx" data-testid="event-permalink-event-name" id="seo_h1_tag" style="color: rgb(29\, 33\, 41)\; font-size: 20px\; margin: 0px 12px 0px 0px\; padding: 0px\; font-weight: normal\; line-height: 28px\; font-family: Helvetica\, Arial\, sans-serif\; background-color: rgb(255\, 255\, 255)\;">Trivia &amp\; Date Night at Steam Donkey Brewing Company</h1>\n<span style="color: rgb(75\, 79\, 86)\; font-family: Helvetica\, Arial\, sans-serif\; font-size: 14px\; background-color: rgb(255\, 255\, 255)\;">A fundraiser for Raindrops Cooperative Preschool\, come test your trivia for prizes and enjoy a date night at Steam Donkey Brewing Company downtown Aberdeen\, Wednesday September 20th 6-8pm. Tickets are $25/couple include appitizers! Buy your tickets during open business hours at Steam Donkey Brewing Company Thursday - Sunday.</span>
LOCATION:Steam Donkey Brewing Co. 101 E Wishkah Aberdeen\, WA
UID:e.26.8226
SEQUENCE:3
DTSTAMP:20260425T214325Z
URL:https://chamber.graysharbor.org/events/details/trivia-date-night-at-steam-donkey-brewing-company-8226
END:VEVENT

END:VCALENDAR
