BEGIN:VCALENDAR
VERSION:2.0
PRODID:-//ChamberMaster//Event Calendar 2.0//EN
METHOD:PUBLISH
X-PUBLISHED-TTL:P3D
REFRESH-INTERVAL:P3D
CALSCALE:GREGORIAN
BEGIN:VEVENT
DTSTART:20181101T010000Z
DTEND:20181101T030000Z
X-MICROSOFT-CDO-ALLDAYEVENT:FALSE
SUMMARY:Trunk or Treat
DESCRIPTION:Harbor City Church is proud to host our 2nd Annual Trunk or Treat on October 31st from 6-8 pm at 1700 Cherry Street in Aberdeen. We will have lots of candy and a variety of fun themed cars for your kids to "Trunk or Treat" at\, so bundle up and come visit us in our safe and friendly parking lot! Can't wait to see you there!
X-ALT-DESC;FMTTYPE=text/html:<div class="_63ew" data-testid="event-permalink-details" style="background-color: transparent\; color: rgb(29\, 33\, 41)\; font-family: Helvetica\,Arial\,sans-serif\; font-size: 14px\; font-style: normal\; font-variant: normal\; font-weight: 400\; letter-spacing: normal\; orphans: 2\; text-align: left\; text-decoration: none\; text-indent: 0px\; text-transform: none\; -webkit-text-stroke-width: 0px\; white-space: normal\; word-spacing: 0px\;"><span style="font-family: Helvetica\,Arial\,sans-serif\;">Harbor City Church is proud to host our 2nd Annual Trunk or Treat on October 31st from 6-8 pm at 1700 Cherry Street in Aberdeen. We will have lots of candy and a variety of fun themed cars for your kids to &ldquo\;Trunk or Treat&rdquo\; at\, so bundle up and come visit us in our safe and friendly parking lot! Can&rsquo\;t wait to see you there!</span></div>\n
LOCATION:Harbor City Church
UID:e.26.11288
SEQUENCE:3
DTSTAMP:20260425T001820Z
URL:https://chamber.graysharbor.org/events/details/trunk-or-treat-11288
END:VEVENT

END:VCALENDAR
