BEGIN:VCALENDAR
VERSION:2.0
PRODID:-//ChamberMaster//Event Calendar 2.0//EN
METHOD:PUBLISH
X-PUBLISHED-TTL:P3D
REFRESH-INTERVAL:P3D
CALSCALE:GREGORIAN
BEGIN:VEVENT
DTSTART:20181027T200000Z
DTEND:20181027T223000Z
X-MICROSOFT-CDO-ALLDAYEVENT:FALSE
SUMMARY:Trunk or Treat
DESCRIPTION:Trunk or Treat sponsored by members of the Midnight Cruizers and The Shoppes at Riverside. Members from any club or anybody with an old car can participate in our event. We will start putting the cars in the mall at 10am so you will have plenty of time to decorate your car. Participants MUST bring their own candy to give away and please be aware that we had almost 1000 kids last year. We have lots of space for everyone\, so come on down and bring some smiles to the youth of our area and a chance to show off your car!
X-ALT-DESC;FMTTYPE=text/html:<div class="_63ew" data-testid="event-permalink-details" style="background-color: transparent\; color: rgb(29\, 33\, 41)\; font-family: Helvetica\,Arial\,sans-serif\; font-size: 14px\; font-style: normal\; font-variant: normal\; font-weight: 400\; letter-spacing: normal\; orphans: 2\; text-align: left\; text-decoration: none\; text-indent: 0px\; text-transform: none\; -webkit-text-stroke-width: 0px\; white-space: normal\; word-spacing: 0px\;"><span style="font-family: Helvetica\,Arial\,sans-serif\;">Trunk or Treat sponsored by members of the Midnight Cruizers and The Shoppes at Riverside. Members from any club or anybody with an old car can participate in our event. We will start putting the cars in the mall at 10am so you will have plenty of time to decorate your car. Participants MUST bring their own candy to give away and please be aware that we had almost 1000 kids last year. We have lots of space for everyone\, so come on down and bring some smiles to the youth of our area and a chance to show off your car!</span></div>\n
LOCATION:Shoppes at Riverside Aberdeen\, WA
UID:e.26.11300
SEQUENCE:3
DTSTAMP:20260425T002042Z
URL:https://chamber.graysharbor.org/events/details/trunk-or-treat-11300
END:VEVENT

END:VCALENDAR
