BEGIN:VCALENDAR
VERSION:2.0
PRODID:-//ChamberMaster//Event Calendar 2.0//EN
METHOD:PUBLISH
X-PUBLISHED-TTL:P3D
REFRESH-INTERVAL:P3D
CALSCALE:GREGORIAN
BEGIN:VEVENT
DTSTART:20191101T010000Z
DTEND:20191101T030000Z
X-MICROSOFT-CDO-ALLDAYEVENT:FALSE
SUMMARY:Trunk or Treat!
DESCRIPTION:It's Harbor City Church's 4th annual Trunk or Treat! Come to their safe\, fun and free event for the chance to go 'Trick or Treating' at multiple cars in one place.\n\nThey provide a variety of uniquely decorated auto trunks for multiple opportunities to score some candy! And this year\, you will get a chance to vote for your favorite trunk! So bring your kids and come "Trunk or Treat"!
X-ALT-DESC;FMTTYPE=text/html:<span style="caret-color: rgb(29\, 33\, 41)\; color: rgb(29\, 33\, 41)\; font-family: system-ui\, -apple-system\, BlinkMacSystemFont\, &quot\;.SFNSText-Regular&quot\;\, sans-serif\; font-size: 14px\; white-space: pre-wrap\;">It&#39\;s Harbor City Church&#39\;s 4th annual Trunk or Treat! Come to their safe\, fun and free event for the chance to go &#39\;Trick or Treating&#39\; at multiple cars in one place.<br />\nThey provide a variety of uniquely decorated auto trunks for multiple opportunities to score some candy! And this year\, you will get a chance to vote for your favorite trunk! So bring your kids and come &quot\;Trunk or Treat&quot\;!</span>
LOCATION:pin Harbor City Church 1700 Cherry St\, Aberdeen\, Washington 98520
UID:e.26.12200
SEQUENCE:3
DTSTAMP:20260424T073343Z
URL:https://chamber.graysharbor.org/events/details/trunk-or-treat-12200
END:VEVENT

END:VCALENDAR
