BEGIN:VCALENDAR
VERSION:2.0
PRODID:-//ChamberMaster//Event Calendar 2.0//EN
METHOD:PUBLISH
X-PUBLISHED-TTL:P3D
REFRESH-INTERVAL:P3D
CALSCALE:GREGORIAN
BEGIN:VEVENT
DTSTART:20171101T010000Z
DTEND:20171101T030000Z
X-MICROSOFT-CDO-ALLDAYEVENT:FALSE
SUMMARY:Trunk or Treat
DESCRIPTION:It's that time of year again and Trunk or Treat will be here before you know it! Come join the fun on our block and visit each of our decorated vehicles for lots of yummy candy! And don't forget to stop at our friendly popcorn station! So\, mark October 31st on your calendars and come join our fun\, safe and completely free event! We can't wait to see you and your amazing costumes!
X-ALT-DESC;FMTTYPE=text/html:<div class="_2qgs" style="color: rgb(75\, 79\, 86)\; padding: 12px\; position: relative\; border-top: none\; font-family: Helvetica\, Arial\, sans-serif\; font-size: 12px\;"><span class="_4n-j _fbReactionComponent__eventDetailsContentTags fsl" data-testid="event-permalink-details" style="font-size: 14px\; font-family: inherit\;">It&#39\;s that time of year again and Trunk or Treat will be here before you know it! Come join the fun on our block and visit each of our decorated vehicles for lots of yummy candy! And don&#39\;t forget to stop at our friendly popcorn station! So\, mark October 31st on your calendars and come join our fun\, safe and completely free event! We can&#39\;t wait to see you and your amazing costumes!</span></div>\n\n<div class="_1r51" style="line-height: 24px\; margin: 4px 12px 12px\; min-height: 24px\; font-family: Helvetica\, Arial\, sans-serif\; color: rgb(29\, 33\, 41)\; font-size: 12px\;">\n<ul class="uiList uiCollapsedList uiCollapsedListHidden _509- _4ki" id="u_jsonp_20_o" style="list-style-type: none\; margin: 0px\; padding: 0px\;">\n	<li style="border-width: 0px\; display: inline-block\; vertical-align: top\;">&nbsp\;</li>\n</ul>\n</div>\n
LOCATION:Harbor City Church 1700 Cherry St. Aberdeen
UID:e.26.8282
SEQUENCE:3
DTSTAMP:20260425T195504Z
URL:https://chamber.graysharbor.org/events/details/trunk-or-treat-8282
END:VEVENT

END:VCALENDAR
