BEGIN:VCALENDAR
VERSION:2.0
PRODID:-//ChamberMaster//Event Calendar 2.0//EN
METHOD:PUBLISH
X-PUBLISHED-TTL:P3D
REFRESH-INTERVAL:P3D
CALSCALE:GREGORIAN
BEGIN:VEVENT
DTSTART:20170819T200000Z
DTEND:20170820T030000Z
X-MICROSOFT-CDO-ALLDAYEVENT:FALSE
SUMMARY:Tumwater Artesian Brewfest
DESCRIPTION:The Tumwater Artesian Brewfest provides a unique outdoor venue for you to SIP Over 100 craft beers from 50 NW breweries (along with cider\, wine\, and local spirits)\; SAVOR Food from local vendors and restaurants\; PLAY Supersized beer pong\, enter stein holding competitions\, and more! 21 and over event. Co-presenting sponsors: Olympia Beer and O Bee Credit Union. #BringBrewingBack
X-ALT-DESC;FMTTYPE=text/html:The Tumwater Artesian Brewfest provides a unique outdoor venue for you to SIP Over 100 craft beers from 50 NW breweries (along with cider\, wine\, and local spirits)\; SAVOR Food from local vendors and restaurants\; PLAY Supersized beer pong\, enter stein holding competitions\, and more! 21 and over event. Co-presenting sponsors: Olympia Beer and O Bee Credit Union. #BringBrewingBack
LOCATION:Tumwater Valley Golf Course\, 4611 Tumwater Valley Drive SE\, Tumwater WA 98501
UID:e.26.8061
SEQUENCE:3
DTSTAMP:20260426T002910Z
URL:https://chamber.graysharbor.org/events/details/tumwater-artesian-brewfest-8061
END:VEVENT

END:VCALENDAR
