BEGIN:VCALENDAR
VERSION:2.0
PRODID:-//ChamberMaster//Event Calendar 2.0//EN
METHOD:PUBLISH
X-PUBLISHED-TTL:P3D
REFRESH-INTERVAL:P3D
CALSCALE:GREGORIAN
BEGIN:VEVENT
DTSTART:20181110T200000Z
DTEND:20181110T200000Z
X-MICROSOFT-CDO-ALLDAYEVENT:FALSE
SUMMARY:Turkey Bingo
DESCRIPTION:Turkey bingo. Proceeds benefit the Stockings for Soldiers program\, sending holiday cheer to our soldiers serving overseas. We will play 20 games with the winner receiving a turkey and a final blackout for a complete turkey dinner Bingo boards are $1 each\, plays all regular games with the final blackout extra $1 board Raffle\, 50/50\, silent auction Food available
X-ALT-DESC;FMTTYPE=text/html:Turkey bingo. Proceeds benefit the Stockings for Soldiers program\, sending holiday cheer to our soldiers serving overseas. We will play 20 games with the winner receiving a turkey and a final blackout for a complete turkey dinner Bingo boards are $1 each\, plays all regular games with the final blackout extra $1 board Raffle\, 50/50\, silent auction Food available
LOCATION:American legion post 5 112 west first Aberdeen wa
UID:e.26.11314
SEQUENCE:3
DTSTAMP:20260424T224205Z
URL:https://chamber.graysharbor.org/events/details/turkey-bingo-11-10-2018-11314
END:VEVENT

END:VCALENDAR
