BEGIN:VCALENDAR
VERSION:2.0
PRODID:-//ChamberMaster//Event Calendar 2.0//EN
METHOD:PUBLISH
X-PUBLISHED-TTL:P3D
REFRESH-INTERVAL:P3D
CALSCALE:GREGORIAN
BEGIN:VEVENT
DTSTART:20191123T011500Z
DTEND:20191123T043000Z
X-MICROSOFT-CDO-ALLDAYEVENT:FALSE
SUMMARY:Turkey Bingo
DESCRIPTION:Turkey Bingo is once again going to be held at the Ocean Shores Convention Center. Lots of turkeys\, pies and trimmings to be had at this fun event. Proceeds go to the Firefighter Association to help fund the scholarship program and the Easter Egg Hunt.\n\nDoors open at 5:15 and Bingo starts at 6:00.
X-ALT-DESC;FMTTYPE=text/html:<span style="caret-color: rgb(29\, 33\, 41)\; color: rgb(29\, 33\, 41)\; font-family: system-ui\, -apple-system\, BlinkMacSystemFont\, &quot\;.SFNSText-Regular&quot\;\, sans-serif\; font-size: 14px\; white-space: pre-wrap\;">Turkey Bingo is once again going to be held at the Ocean Shores Convention Center. Lots of turkeys\, pies and trimmings to be had at this fun event. Proceeds go to the Firefighter Association to help fund the scholarship program and the Easter Egg Hunt.</span><br style="caret-color: rgb(29\, 33\, 41)\; color: rgb(29\, 33\, 41)\; font-family: system-ui\, -apple-system\, BlinkMacSystemFont\, &quot\;.SFNSText-Regular&quot\;\, sans-serif\; font-size: 14px\; white-space: pre-wrap\;" />\n<span style="caret-color: rgb(29\, 33\, 41)\; color: rgb(29\, 33\, 41)\; font-family: system-ui\, -apple-system\, BlinkMacSystemFont\, &quot\;.SFNSText-Regular&quot\;\, sans-serif\; font-size: 14px\; white-space: pre-wrap\;">Doors open at 5:15 and Bingo starts at 6:00.</span>
LOCATION:pin Ocean Shores Convention Center 120 W Chance A la Mer NW\, Ocean Shores\, Washington 98569
UID:e.26.12018
SEQUENCE:3
DTSTAMP:20260424T055835Z
URL:https://chamber.graysharbor.org/events/details/turkey-bingo-12018
END:VEVENT

END:VCALENDAR
