BEGIN:VCALENDAR
VERSION:2.0
PRODID:-//ChamberMaster//Event Calendar 2.0//EN
METHOD:PUBLISH
X-PUBLISHED-TTL:P3D
REFRESH-INTERVAL:P3D
CALSCALE:GREGORIAN
BEGIN:VEVENT
DTSTART:20251122T020000Z
DTEND:20251122T050000Z
X-MICROSOFT-CDO-ALLDAYEVENT:FALSE
SUMMARY:Turkey Bingo!
DESCRIPTION:Everyone's favorite pre-Thanksgiving tradition is back for more heart-pounding play action!\n\nYou could win a turkey dinner or other great prizes!\n\nThis benefit for the Ocean Shores Firefighters Association is sponsored by the Ocean Shores IGA and other wonderful local vendors.
X-ALT-DESC;FMTTYPE=text/html:<div class="xdj266r x14z9mp xat24cr x1lziwak x1vvkbs" style="overflow-wrap: break-word\; margin-inline: 0px\; margin-bottom: 0px\; margin-top: 0px\; font-family: &quot\;Segoe UI Historic&quot\;\, &quot\;Segoe UI&quot\;\, Helvetica\, Arial\, sans-serif\; color: rgb(8\, 8\, 9)\; font-size: 15px\;"><span style="font-size:14px\;"><span style="font-family:arial\;">Everyone&#39\;s favorite pre-Thanksgiving tradition is back for more heart-pounding play action!</span></span></div>\n\n<div class="x14z9mp xat24cr x1lziwak x1vvkbs xtlvy1s" style="overflow-wrap: break-word\; margin-top: 0.5em\; margin-inline: 0px\; margin-bottom: 0px\; font-family: &quot\;Segoe UI Historic&quot\;\, &quot\;Segoe UI&quot\;\, Helvetica\, Arial\, sans-serif\; color: rgb(8\, 8\, 9)\; font-size: 15px\;"><span style="font-size:14px\;"><span style="font-family:arial\;">You could win a turkey dinner or other great prizes!</span></span></div>\n\n<div class="x14z9mp xat24cr x1lziwak x1vvkbs xtlvy1s" style="overflow-wrap: break-word\; margin-top: 0.5em\; margin-inline: 0px\; margin-bottom: 0px\; font-family: &quot\;Segoe UI Historic&quot\;\, &quot\;Segoe UI&quot\;\, Helvetica\, Arial\, sans-serif\; color: rgb(8\, 8\, 9)\; font-size: 15px\;"><span style="font-size:14px\;"><span style="font-family:arial\;">This benefit for the Ocean Shores Firefighters Association is sponsored by the Ocean Shores IGA and other wonderful local vendors.</span></span></div>\n
LOCATION:Ocean Shores Convention Center 723 Minard Ave NW\, Ocean Shores\, WA
UID:e.26.15298
SEQUENCE:3
DTSTAMP:20260422T020113Z
URL:https://chamber.graysharbor.org/events/details/turkey-bingo-15298
END:VEVENT

END:VCALENDAR
