BEGIN:VCALENDAR
VERSION:2.0
PRODID:-//ChamberMaster//Event Calendar 2.0//EN
METHOD:PUBLISH
X-PUBLISHED-TTL:P3D
REFRESH-INTERVAL:P3D
CALSCALE:GREGORIAN
BEGIN:VEVENT
DTSTART:20171123T160000Z
DTEND:20171123T200000Z
X-MICROSOFT-CDO-ALLDAYEVENT:FALSE
SUMMARY:Turkey Day Football
DESCRIPTION:Hey Guys!! This is extremely important!! If Montesano Bulldogs are in the playoffs for State\, they WILL practice on their field Thanksgiving Morning\, and we will have to head to Beacon!!!! Be Ready for this scenario. I will post other details about this event after all invites are set!
X-ALT-DESC;FMTTYPE=text/html:<span style="color: rgb(75\, 79\, 86)\; font-family: Helvetica\, Arial\, sans-serif\; font-size: 14px\; background-color: rgb(255\, 255\, 255)\;">Hey Guys!! This is extremely important!! If Montesano Bulldogs are in the playoffs for State\, they WILL practice on their field Thanksgiving Morning\, and we will have to head to Beacon!!!! Be Ready for this scenario. I will post other details about this event after all invites are set!</span>
LOCATION:Montesano Junior Senior High 303 North Church St. Montesano\, WA
UID:e.26.8337
SEQUENCE:3
DTSTAMP:20260425T195758Z
URL:https://chamber.graysharbor.org/events/details/turkey-day-football-8337
END:VEVENT

END:VCALENDAR
