BEGIN:VCALENDAR
VERSION:2.0
PRODID:-//ChamberMaster//Event Calendar 2.0//EN
METHOD:PUBLISH
X-PUBLISHED-TTL:P3D
REFRESH-INTERVAL:P3D
CALSCALE:GREGORIAN
BEGIN:VEVENT
DTSTART:20170506T013000Z
DTEND:20170506T040000Z
X-MICROSOFT-CDO-ALLDAYEVENT:FALSE
SUMMARY:Two Mountain Winemaker's Happy Hour at Oyhut Bay
DESCRIPTION:Two Mountain Winery Winemaker's Happy Hour at Oyhut Bay Ocean Shores. Friday May 5th at 6:30 p.m.. Enjoy pairings from Two Mountain Winery and Chef Graybeal from the new Oyhut Bay Bistro. https://www.facebook.com/events/128767061000028/?ti=cl
X-ALT-DESC;FMTTYPE=text/html:Two Mountain Winery Winemaker&#39\;s Happy Hour at Oyhut Bay Ocean Shores. Friday May 5th at 6:30 p.m.. Enjoy pairings from Two Mountain Winery and Chef Graybeal from the new Oyhut Bay Bistro. https://www.facebook.com/events/128767061000028/?ti=cl
LOCATION:404 Salmonberry Lane SW Oyhut Bay Ocean Shores
UID:e.26.7680
SEQUENCE:3
DTSTAMP:20260426T032913Z
URL:https://chamber.graysharbor.org/events/details/two-mountain-winemaker-s-happy-hour-at-oyhut-bay-7680
END:VEVENT

END:VCALENDAR
