BEGIN:VCALENDAR
VERSION:2.0
PRODID:-//ChamberMaster//Event Calendar 2.0//EN
METHOD:PUBLISH
X-PUBLISHED-TTL:P3D
REFRESH-INTERVAL:P3D
CALSCALE:GREGORIAN
BEGIN:VEVENT
DTSTART:20190921T190000Z
DTEND:20190921T210000Z
X-MICROSOFT-CDO-ALLDAYEVENT:FALSE
SUMMARY:Tyler Mark-Z
DESCRIPTION:Tyler is a local musician\, playing guitar and singing. He has prepared some new material\, and will be showcasing it at Tinderbox Coffee Roasters on Sept. 21st!
X-ALT-DESC;FMTTYPE=text/html:<span style="font-family:arial\;"><span style="font-size:14px\;"><span style="caret-color: rgb(29\, 33\, 41)\; color: rgb(29\, 33\, 41)\; white-space: pre-wrap\;">Tyler is a local musician\, playing guitar and singing. He has prepared some new material\, and will be showcasing it at Tinderbox Coffee Roasters on Sept. 21st!</span></span></span>
LOCATION:pin Tinderbox Coffee Roasters 113 E Wishkah St\, Aberdeen\, Washington 98520
UID:e.26.12199
SEQUENCE:3
DTSTAMP:20260424T090052Z
URL:https://chamber.graysharbor.org/events/details/tyler-mark-z-12199
END:VEVENT

END:VCALENDAR
