BEGIN:VCALENDAR
VERSION:2.0
PRODID:-//ChamberMaster//Event Calendar 2.0//EN
METHOD:PUBLISH
X-PUBLISHED-TTL:P3D
REFRESH-INTERVAL:P3D
CALSCALE:GREGORIAN
BEGIN:VEVENT
DTSTART;VALUE=DATE:20200306
DTEND;VALUE=DATE:20200309
TRANSP:TRANSPARENT
X-MICROSOFT-CDO-ALLDAYEVENT:TRUE
SUMMARY:UFO/Paranormal Summit
DESCRIPTION:The UFO/Paranormal Summit is an annual research conference in Grays Harbor Washington held at the Quinault Beach Resort & Casino in Ocean Shores. \n\n\n\nWe feature the worlds most renowned researchers in the UFO and Paranormal worlds as well as new researchers as they present their evidence\, theories and information.
X-ALT-DESC;FMTTYPE=text/html:<span style="font-size:14px\;"><span style="font-family:arial\;"><span style="caret-color: rgb(170\, 170\, 170)\; letter-spacing: 0.20000000298023224px\;">The UFO/Paranormal Summit is an annual research conference in Grays Harbor Washington held at the Quinault Beach Resort &amp\; Casino in Ocean Shores.&nbsp\;</span><br style="font-size: 16px\; box-sizing: border-box\; caret-color: rgb(170\, 170\, 170)\; color: rgb(170\, 170\, 170)\; font-family: Roboto\, Arial\, sans-serif\; letter-spacing: 0.20000000298023224px\;" />\n<br style="font-size: 16px\; box-sizing: border-box\; caret-color: rgb(170\, 170\, 170)\; color: rgb(170\, 170\, 170)\; font-family: Roboto\, Arial\, sans-serif\; letter-spacing: 0.20000000298023224px\;" />\n<span style="caret-color: rgb(170\, 170\, 170)\; letter-spacing: 0.20000000298023224px\;">We feature the worlds most renowned researchers in the UFO and Paranormal worlds as well as new researchers as they present their evidence\, theories and information.</span></span></span>
LOCATION:Quinault Beach Resort and Casino 78 WA-115 Elma\, WA
UID:e.26.12358
SEQUENCE:3
DTSTAMP:20260424T073242Z
URL:https://chamber.graysharbor.org/events/details/ufo-paranormal-summit-12358
END:VEVENT

END:VCALENDAR
