BEGIN:VCALENDAR
VERSION:2.0
PRODID:-//ChamberMaster//Event Calendar 2.0//EN
METHOD:PUBLISH
X-PUBLISHED-TTL:P3D
REFRESH-INTERVAL:P3D
CALSCALE:GREGORIAN
BEGIN:VEVENT
DTSTART;VALUE=DATE:20180302
DTEND;VALUE=DATE:20180304
TRANSP:TRANSPARENT
X-MICROSOFT-CDO-ALLDAYEVENT:TRUE
SUMMARY:UFO/Paranormal Summit
DESCRIPTION:The UFO/Paranormal Summit is an annual research conference in Grays Harbor Washington. It is held at the Quinault Beach Resort & Casino in Ocean Shores and features the most respected researchers.\n\nWe feature the worlds most renowned researchers in the UFO and Paranormal worlds as well as new researchers as they present their evidence\, theories and information.
X-ALT-DESC;FMTTYPE=text/html:<p style="box-sizing: border-box\; margin: 0px\; padding: 0px\; border: 0px\; font-variant-numeric: inherit\; font-stretch: inherit\; font-size: 13px\; line-height: inherit\; font-family: Montserrat\, sans-serif\; vertical-align: baseline\; color: rgb(54\, 69\, 79)\; background-color: rgb(255\, 255\, 255)\;">The UFO/Paranormal Summit is an annual research conference in Grays Harbor Washington. It is held at the Quinault Beach Resort &amp\; Casino in Ocean Shores and features the most respected researchers.</p>\n\n<p style="box-sizing: border-box\; margin: 0px\; padding: 0px\; border: 0px\; font-variant-numeric: inherit\; font-stretch: inherit\; font-size: 13px\; line-height: inherit\; font-family: Montserrat\, sans-serif\; vertical-align: baseline\; color: rgb(54\, 69\, 79)\; background-color: rgb(255\, 255\, 255)\;">We feature the worlds most renowned researchers in the UFO and Paranormal worlds as well as new researchers as they present their evidence\, theories and information.</p>\n
LOCATION:Quinault Beach Resort and Casino Ocean Shores\, WA
UID:e.26.9432
SEQUENCE:3
DTSTAMP:20260425T113206Z
URL:https://chamber.graysharbor.org/events/details/ufo-paranormal-summit-9432
END:VEVENT

END:VCALENDAR
