BEGIN:VCALENDAR
VERSION:2.0
PRODID:-//ChamberMaster//Event Calendar 2.0//EN
METHOD:PUBLISH
X-PUBLISHED-TTL:P3D
REFRESH-INTERVAL:P3D
CALSCALE:GREGORIAN
BEGIN:VEVENT
DTSTART:20181223T010000Z
DTEND:20181223T050000Z
X-MICROSOFT-CDO-ALLDAYEVENT:FALSE
SUMMARY:Ugly Sweater Christmas Party
DESCRIPTION:Saturday we will be hosting an ugly christmas sweater party! Come on down at 5\, have a few delicious beers on tap\, some great tacos and show us your ugly sweaters! \n\nWinners will win a prize!
X-ALT-DESC;FMTTYPE=text/html:<span style="caret-color: rgb(29\, 33\, 41)\; color: rgb(29\, 33\, 41)\; font-family: system-ui\, -apple-system\, BlinkMacSystemFont\, &quot\;.SFNSText-Regular&quot\;\, sans-serif\; font-size: 14px\; background-color: rgb(255\, 255\, 255)\;">Saturday we will be hosting an ugly christmas sweater party! Come on down at 5\, have a few delicious beers on tap\, some great tacos and show us your ugly sweaters!&nbsp\;</span><br style="caret-color: rgb(29\, 33\, 41)\; color: rgb(29\, 33\, 41)\; font-family: system-ui\, -apple-system\, BlinkMacSystemFont\, &quot\;.SFNSText-Regular&quot\;\, sans-serif\; font-size: 14px\;" />\n<span style="caret-color: rgb(29\, 33\, 41)\; color: rgb(29\, 33\, 41)\; font-family: system-ui\, -apple-system\, BlinkMacSystemFont\, &quot\;.SFNSText-Regular&quot\;\, sans-serif\; font-size: 14px\; background-color: rgb(255\, 255\, 255)\;">Winners will win a prize!</span>
LOCATION:The Tap Room Aberdeen\, WA
UID:e.26.11392
SEQUENCE:3
DTSTAMP:20260424T210814Z
URL:https://chamber.graysharbor.org/events/details/ugly-sweater-christmas-party-11392
END:VEVENT

END:VCALENDAR
