BEGIN:VCALENDAR
VERSION:2.0
PRODID:-//ChamberMaster//Event Calendar 2.0//EN
METHOD:PUBLISH
X-PUBLISHED-TTL:P3D
REFRESH-INTERVAL:P3D
CALSCALE:GREGORIAN
BEGIN:VEVENT
DTSTART:20191207T020000Z
DTEND:20191207T040000Z
X-MICROSOFT-CDO-ALLDAYEVENT:FALSE
SUMMARY:Ugly Sweater Party
DESCRIPTION:Get all gussied up in your finest ugly sweater and come down to MOB for their ugly sweater contest! Take your picture for entry and the winner will be announced via Facebook/Instagram post of your snapshot!
X-ALT-DESC;FMTTYPE=text/html:<font color="#1d2129" face="system-ui\, -apple-system\, BlinkMacSystemFont\, .SFNSText-Regular\, sans-serif"><span style="caret-color: rgb(29\, 33\, 41)\; font-size: 14px\; white-space: pre-wrap\;">Get all gussied up in your finest ugly sweater and come down to MOB for their ugly sweater contest! Take your picture for entry and the winner will be announced via Facebook/Instagram post of your snapshot!</span></font>
LOCATION:pin Mount Olympus Brewing Company 105 W HERON ST\, Aberdeen\, Washington 98520
UID:e.26.12298
SEQUENCE:3
DTSTAMP:20260424T025506Z
URL:https://chamber.graysharbor.org/events/details/ugly-sweater-party-12298
END:VEVENT

END:VCALENDAR
