BEGIN:VCALENDAR
VERSION:2.0
PRODID:-//ChamberMaster//Event Calendar 2.0//EN
METHOD:PUBLISH
X-PUBLISHED-TTL:P3D
REFRESH-INTERVAL:P3D
CALSCALE:GREGORIAN
BEGIN:VEVENT
DTSTART:20190418T010000Z
DTEND:20190418T020000Z
X-MICROSOFT-CDO-ALLDAYEVENT:FALSE
SUMMARY:Understanding Your Hospital Speaker Series
DESCRIPTION:Have you ever wondered what happens here at the hospital behind the scenes? Please join us every third Wednesday at 6pm for our Understanding Your Hospital Speaker Series. Professionals from many department will provide a 30 minute presentation and then be available for Q & A on that topic. We are excited to invite the public to this FREE monthly event in 2019!
X-ALT-DESC;FMTTYPE=text/html:<span style="caret-color: rgb(28\, 30\, 33)\; color: rgb(28\, 30\, 33)\; font-family: system-ui\, -apple-system\, BlinkMacSystemFont\, &quot\;.SFNSText-Regular&quot\;\, sans-serif\; font-size: 14px\; background-color: rgb(255\, 255\, 255)\;">Have you ever wondered what happens here at the hospital behind the scenes? Please join us every third Wednesday at 6pm for our Understanding Your Hospital Speaker Series. Professionals from many department will provide a 30 minute presentation and then be available for Q &amp\; A on that topic. We are excited to invite the public to this FREE monthly event in 2019!</span>
LOCATION:Grays Harbor Community Hospital Conference Room C Aberdeen\, WA
UID:e.26.11733
SEQUENCE:3
DTSTAMP:20260424T151319Z
URL:https://chamber.graysharbor.org/events/details/understanding-your-hospital-speaker-series-04-17-2019-11733
END:VEVENT

END:VCALENDAR
