BEGIN:VCALENDAR
VERSION:2.0
PRODID:-//ChamberMaster//Event Calendar 2.0//EN
METHOD:PUBLISH
X-PUBLISHED-TTL:P3D
REFRESH-INTERVAL:P3D
CALSCALE:GREGORIAN
BEGIN:VEVENT
DTSTART;VALUE=DATE:20170909
DTEND;VALUE=DATE:20170911
TRANSP:TRANSPARENT
X-MICROSOFT-CDO-ALLDAYEVENT:TRUE
SUMMARY:Up Your Wind Kite Festival
DESCRIPTION:Kite contests and choreographed kite flying\, fun for the whole family!
X-ALT-DESC;FMTTYPE=text/html:Kite contests and choreographed kite flying\, fun for the whole family!
LOCATION:Pacific Beach\, WA
UID:e.26.7628
SEQUENCE:3
DTSTAMP:20260425T213833Z
URL:https://chamber.graysharbor.org/events/details/up-your-wind-kite-festival-7628
END:VEVENT

END:VCALENDAR
