BEGIN:VCALENDAR
VERSION:2.0
PRODID:-//ChamberMaster//Event Calendar 2.0//EN
METHOD:PUBLISH
X-PUBLISHED-TTL:P3D
REFRESH-INTERVAL:P3D
CALSCALE:GREGORIAN
BEGIN:VEVENT
DTSTART:20190511T170000Z
DTEND:20190513T000000Z
X-MICROSOFT-CDO-ALLDAYEVENT:FALSE
SUMMARY:Urban Unglued: More Gore at the Shore and Gore Games
DESCRIPTION:"MORE" URBAN UNGLUED Craft Show will be coming to Ocean Shores Mother's Day weekend\, May 11th and 12th from 10am-5pm each day. Free admission and all are welcome. This show is an extension of our January gothic and dark art themed handmade market.
X-ALT-DESC;FMTTYPE=text/html:<span style="background-color:rgb(255\, 255\, 255)\; color:rgb(128\, 128\, 128)\; font-family:lato\,sans-serif\; font-size:17.008px">&quot\;MORE&quot\; URBAN UNGLUED Craft Show will be coming to Ocean Shores Mother&#39\;s Day weekend\, May 11th and 12th from 10am-5pm each day. Free admission and all are welcome. This show is an extension of our January gothic and dark art themed handmade market.</span>
LOCATION:Ocean Shores Convention Center 120 W Chance A La Mer Ave Ocean Shores\, WA 98569
UID:e.26.11865
SEQUENCE:3
DTSTAMP:20260424T133307Z
URL:https://chamber.graysharbor.org/events/details/urban-unglued-more-gore-at-the-shore-and-gore-games-11865
END:VEVENT

END:VCALENDAR
