BEGIN:VCALENDAR
VERSION:2.0
PRODID:-//ChamberMaster//Event Calendar 2.0//EN
METHOD:PUBLISH
X-PUBLISHED-TTL:P3D
REFRESH-INTERVAL:P3D
CALSCALE:GREGORIAN
BEGIN:VEVENT
DTSTART:20170820T210000Z
DTEND:20170820T223000Z
X-MICROSOFT-CDO-ALLDAYEVENT:FALSE
SUMMARY:USAF Commander's Jazz Band
DESCRIPTION:The Commanders\, a newly-revived ensemble coming from the US Air Force Band of the Golden West\, carries on the American musical tradition of the great big bands\, yet offers a lot more than the big band sounds. This energetic group of highly-trained professional musicians\, formed from 18 Airmen\, delivers the full gamut of jazz music   traditional jazz\, cool\, bop\, swing\, Broadway favorites\, and patriotic music. The Commanders offers an entertaining show you won't soon forget!\n\n\n\nA typical evening with The Commanders might include favorites from Glenn Miller\, Duke Ellington\, Woody Herman\, Count Basie\, and Dizzy Gillespie to the sounds of today's modern jazz groups delivered by the group's enchantingly talented vocalist. Their renditions of hot jazz feature rousing improvised solos from every instrument in the group. This is an ensemble capable of delivering a truly unique combination of entertainment.\n\n\n\nThe Commanders are ready to charge you up with a fun-filled event that will satisfy every musical taste!
X-ALT-DESC;FMTTYPE=text/html:The Commanders\, a newly-revived ensemble coming from the US Air Force Band of the Golden West\, carries on the American musical tradition of the great big bands\, yet offers a lot more than the big band sounds. This energetic group of highly-trained professional musicians\, formed from 18 Airmen\, delivers the full gamut of jazz music &ndash\; traditional jazz\, cool\, bop\, swing\, Broadway favorites\, and patriotic music. The Commanders offers an entertaining show you won&rsquo\;t soon forget!<br />\n<br />\nA typical evening with The Commanders might include favorites from Glenn Miller\, Duke Ellington\, Woody Herman\, Count Basie\, and Dizzy Gillespie to the sounds of today&rsquo\;s modern jazz groups delivered by the group&rsquo\;s enchantingly talented vocalist. Their renditions of hot jazz feature rousing improvised solos from every instrument in the group. This is an ensemble capable of delivering a truly unique combination of entertainment.<br />\n<br />\nThe Commanders are ready to charge you up with a fun-filled event that will satisfy every musical taste!
LOCATION:7th Street Theatre Hoquiam\, WA
UID:e.26.7716
SEQUENCE:3
DTSTAMP:20260425T230157Z
URL:https://chamber.graysharbor.org/events/details/usaf-commander-s-jazz-band-7716
END:VEVENT

END:VCALENDAR
