BEGIN:VCALENDAR
VERSION:2.0
PRODID:-//ChamberMaster//Event Calendar 2.0//EN
METHOD:PUBLISH
X-PUBLISHED-TTL:P3D
REFRESH-INTERVAL:P3D
CALSCALE:GREGORIAN
BEGIN:VEVENT
DTSTART:20200215T030000Z
DTEND:20200215T033000Z
X-MICROSOFT-CDO-ALLDAYEVENT:FALSE
SUMMARY:Valentine's Day Concert with Ben Fagerstedt at Channel Point
DESCRIPTION:Would you like to celebrate Valentine's Day by being serenaded with songs from the 50s and 60s? Make some new memories and join us for a concert with Ben Fagerstedt\, a local young performer with a wonderful voice. This event is free and open to the public.
X-ALT-DESC;FMTTYPE=text/html:<span style="color:rgb(29\, 33\, 41)\; font-family:helvetica\,arial\,sans-serif\; font-size:14px">Would you like to celebrate Valentine&#39\;s Day by being serenaded with songs from the 50s and 60s? Make some new memories and join us for a concert with Ben Fagerstedt\, a local young performer with a wonderful voice. This event is free and open to the public. </span>
LOCATION:907 K Street Hoquiam\, WA 98550
UID:e.26.12420
SEQUENCE:3
DTSTAMP:20260424T042457Z
URL:https://chamber.graysharbor.org/events/details/valentine-s-day-concert-with-ben-fagerstedt-at-channel-point-12420
END:VEVENT

END:VCALENDAR
