BEGIN:VCALENDAR
VERSION:2.0
PRODID:-//ChamberMaster//Event Calendar 2.0//EN
METHOD:PUBLISH
X-PUBLISHED-TTL:P3D
REFRESH-INTERVAL:P3D
CALSCALE:GREGORIAN
BEGIN:VEVENT
DTSTART:20200215T030000Z
DTEND:20200215T050000Z
X-MICROSOFT-CDO-ALLDAYEVENT:FALSE
SUMMARY:Valentine’s Day French Macaron Class
DESCRIPTION:You'll see how we make these magical puffs of love from the start! We'll teach you the art of meringue and macronage\, piping and setting up. While they are setting and baking\, we'll have intermission for food and drinks!\n\nThe whole menu will be available at additional cost as well as a full bar\, but the first drink is always included in your class! We will also have Tori Belle magnetic lashes in the house! Treat yourself to some amazing lashes for date night! We can't wait to see you and your valentine!
X-ALT-DESC;FMTTYPE=text/html:<span style="caret-color: rgb(29\, 33\, 41)\; color: rgb(29\, 33\, 41)\; font-family: system-ui\, -apple-system\, BlinkMacSystemFont\, &quot\;.SFNSText-Regular&quot\;\, sans-serif\; font-size: 14px\; white-space: pre-wrap\;">You&rsquo\;ll see how we make these magical puffs of love from the start! We&rsquo\;ll teach you the art of meringue and macronage\, piping and setting up. While they are setting and baking\, we&rsquo\;ll have intermission for food and drinks!<br />\nThe whole menu will be available at additional cost as well as a full bar\, but the first drink is always included in your class! We will also have Tori Belle magnetic lashes in the house! Treat yourself to some amazing lashes for date night! We can&rsquo\;t wait to see you and your valentine! </span>
LOCATION:pin Brunch 101 716 Simpson Ave\, Hoquiam\, Washington 98550
UID:e.26.12421
SEQUENCE:3
DTSTAMP:20260424T042113Z
URL:https://chamber.graysharbor.org/events/details/valentine-s-day-french-macaron-class-12421
END:VEVENT

END:VCALENDAR
