BEGIN:VCALENDAR
VERSION:2.0
PRODID:-//ChamberMaster//Event Calendar 2.0//EN
METHOD:PUBLISH
X-PUBLISHED-TTL:P3D
REFRESH-INTERVAL:P3D
CALSCALE:GREGORIAN
BEGIN:VEVENT
DTSTART:20191111T020000Z
DTEND:20191111T050000Z
X-MICROSOFT-CDO-ALLDAYEVENT:FALSE
SUMMARY:Veteran's Day Celebration
DESCRIPTION:Join us to celebrate the brave men and women who fight for our freedom with this annual event at Seabrook Washington.
X-ALT-DESC;FMTTYPE=text/html:<span style="font-size: 16px\; caret-color: rgb(84\, 102\, 108)\; color: rgb(84\, 102\, 108)\; font-family: myriad-pro\, sans-serif\; letter-spacing: 0.47999998927116394px\; background-color: rgb(255\, 255\, 255)\;">Join us to celebrate the brave men and women who fight for our freedom with this annual event at Seabrook Washington.&nbsp\;</span>
LOCATION:Seabrook Washington Pacific Beach\, WA
UID:e.26.11644
SEQUENCE:3
DTSTAMP:20260424T041943Z
URL:https://chamber.graysharbor.org/events/details/veteran-s-day-celebration-11644
END:VEVENT

END:VCALENDAR
