BEGIN:VCALENDAR
VERSION:2.0
PRODID:-//ChamberMaster//Event Calendar 2.0//EN
METHOD:PUBLISH
X-PUBLISHED-TTL:P3D
REFRESH-INTERVAL:P3D
CALSCALE:GREGORIAN
BEGIN:VEVENT
DTSTART;VALUE=DATE:20171111
DTEND;VALUE=DATE:20171112
TRANSP:TRANSPARENT
X-MICROSOFT-CDO-ALLDAYEVENT:TRUE
SUMMARY:Veterans Day Celebration & Parade
DESCRIPTION:Old fashioned parade to honor veterans!
X-ALT-DESC;FMTTYPE=text/html:Old fashioned parade to honor veterans!
LOCATION:Elma\, WA
UID:e.26.7644
SEQUENCE:3
DTSTAMP:20260425T181144Z
URL:https://chamber.graysharbor.org/events/details/veterans-day-celebration-parade-7644
END:VEVENT

END:VCALENDAR
