BEGIN:VCALENDAR
VERSION:2.0
PRODID:-//ChamberMaster//Event Calendar 2.0//EN
METHOD:PUBLISH
X-PUBLISHED-TTL:P3D
REFRESH-INTERVAL:P3D
CALSCALE:GREGORIAN
BEGIN:VEVENT
DTSTART:20191111T220000Z
DTEND:20191112T050000Z
X-MICROSOFT-CDO-ALLDAYEVENT:FALSE
SUMMARY:Veterans Day Show at 7th St.
DESCRIPTION:Join the 7th St. Theatre for the Hoquiam High School Music Department's Annual Veterans Day Show honoring our veterans and those currently serving in the U.S. Armed Forces.\n\n\n\nThis special event is open to the public. All are welcome.
X-ALT-DESC;FMTTYPE=text/html:<h4 style="box-sizing: border-box\; font-family: &quot\;Helvetica Neue&quot\;\, Helvetica\, Arial\, sans-serif\; line-height: 1.1\; margin-top: 10px\; margin-bottom: 10px\; font-size: 18px\;"><span style="font-size:14px\;"><span style="font-family:arial\;">Join the 7th St. Theatre&nbsp\;for the Hoquiam High School Music Department&rsquo\;s&nbsp\;<em style="box-sizing: border-box\;">Annual Veterans Day Show</em>&nbsp\;honoring our veterans and those currently serving in the U.S. Armed Forces.<br style="box-sizing: border-box\;" />\n<br style="box-sizing: border-box\;" />\nThis special event is open to the public. All are welcome.</span></span></h4>\n
LOCATION:7th St. Theatre Hoquiam\, WA
UID:e.26.12277
SEQUENCE:3
DTSTAMP:20260424T042028Z
URL:https://chamber.graysharbor.org/events/details/veterans-day-show-at-7th-st-12277
END:VEVENT

END:VCALENDAR
