BEGIN:VCALENDAR
VERSION:2.0
PRODID:-//ChamberMaster//Event Calendar 2.0//EN
METHOD:PUBLISH
X-PUBLISHED-TTL:P3D
REFRESH-INTERVAL:P3D
CALSCALE:GREGORIAN
BEGIN:VEVENT
DTSTART:20190504T153000Z
DTEND:20190504T220000Z
X-MICROSOFT-CDO-ALLDAYEVENT:FALSE
SUMMARY:VFW Comcast Cares Day
DESCRIPTION:On May 4\, 2019\, more than 150 Comcast employees from the Aberdeen area\, along with their families\, friends and community partners\, will contribute to local volunteer projects as part of Comcast's 18th annual Comcast Cares Day. Teams of volunteers\, working alongside the local McCleary School District\, will help repair the post by removing a brick fascia and a leaking exterior wall\, and re-siding it with updated materials. Others will help assemble assistance kits for homeless veterans.\n\n\n\nA message from the VFW Commander for McCleary Wa. post 5564:\n\nWe have won an awesome grant from Comcast (Comcast Cares Day) May 4th 2019\, to repair some aging outside brick walls and putting together assistance kits for homeless veterans. We are looking for volunteers from the citizens of McCleary and other groups and individuals to help with light construction\, painting\, kitchen help\, and brick clean up jobs. Kids are Welcome! We are anticipating over 200 volunteers. A Comcast Cares t-shirt and Lunch is provided Free.\n\nYou can sign up online https://www.comcastinthecommunity.com/ (preferred) or you can also show up the day of event and sign up then. Come meet with friends and neighbors for a great community building event. Call me if you have any questions: 360-580-1197\n\n\n\nThank You: Jay Biggs Comcast Coordinator/VFW Commander
X-ALT-DESC;FMTTYPE=text/html:<span style="font-family:arial\;"><span style="caret-color: rgb(38\, 38\, 38)\; color: rgb(38\, 38\, 38)\;">On May 4\, 2019\, more than 150 Comcast employees from the Aberdeen area\, along with their families\, friends and community partners\, will contribute to local volunteer projects as part of Comcast&rsquo\;s 18th annual Comcast Cares Day. Teams of volunteers\, working alongside the local McCleary School District\, will help repair the post by removing a brick fascia and a leaking exterior wall\, and re-siding it with updated materials. Others will help assemble assistance kits for homeless veterans.</span></span><br />\n<br />\n<span style="caret-color: rgb(29\, 33\, 41)\; color: rgb(29\, 33\, 41)\; font-family: system-ui\, -apple-system\, BlinkMacSystemFont\, &quot\;.SFNSText-Regular&quot\;\, sans-serif\; font-size: 14px\; white-space: pre-wrap\;">A message from the VFW Commander for McCleary Wa. post 5564:<br />\nWe have won an awesome grant from Comcast (Comcast Cares Day) May 4th 2019\, to repair some aging outside brick walls and putting together assistance kits for homeless veterans. We are looking for volunteers from the citizens of McCleary and other groups and individuals to help with light construction\, painting\, kitchen help\, and brick clean up jobs. Kids are Welcome! We are anticipating over 200 volunteers. A Comcast Cares t-shirt and Lunch is provided Free.<br />\nYou can sign up online </span><a data-lynx-mode="hover" data-lynx-uri="https://l.facebook.com/l.php?u=https%3A%2F%2Fwww.comcastinthecommunity.com%2F%3Ffbclid%3DIwAR2w9ik1ewn98uPEey7kRxwYQwv22QosouknHgowDyAXHhTULTLwL0FZFBo&amp\;h=AT3VK1KHam6qF9KmknqdCzc3-WrAvLvh6BtOdtr7zyT0Gi_6zu6d60i_HxEHHnuZBfQl8yMysiGXcqka1yKDTvjUYW6e0PiPMuWm55Bxx1N8IHtoDbg4pHUzRw4iBZdf8ShzruBZBQ" href="https://www.comcastinthecommunity.com/?fbclid=IwAR2w9ik1ewn98uPEey7kRxwYQwv22QosouknHgowDyAXHhTULTLwL0FZFBo" rel="nofollow noopener" style="color: rgb(54\, 88\, 153)\; cursor: pointer\; text-decoration: none\; font-family: system-ui\, -apple-system\, BlinkMacSystemFont\, &quot\;.SFNSText-Regular&quot\;\, sans-serif\; font-size: 14px\; white-space: pre-wrap\;" target="_blank">https://www.comcastinthecommunity.com/</a><span style="caret-color: rgb(29\, 33\, 41)\; color: rgb(29\, 33\, 41)\; font-family: system-ui\, -apple-system\, BlinkMacSystemFont\, &quot\;.SFNSText-Regular&quot\;\, sans-serif\; font-size: 14px\; white-space: pre-wrap\;"> (preferred) or you can also show up the day of event and sign up then. Come meet with friends and neighbors for a great community building event. Call me if you have any questions: 360-580-1197<br />\n<br />\nThank You: Jay Biggs Comcast Coordinator/VFW Commander</span>
LOCATION:pin McCleary VFW Hall 158 N Summit Rd.\, McCleary\, Washington 98557
UID:e.26.11959
SEQUENCE:3
DTSTAMP:20260424T132627Z
URL:https://chamber.graysharbor.org/events/details/vfw-comcast-cares-day-11959
END:VEVENT

END:VCALENDAR
