BEGIN:VCALENDAR
VERSION:2.0
PRODID:-//ChamberMaster//Event Calendar 2.0//EN
METHOD:PUBLISH
X-PUBLISHED-TTL:P3D
REFRESH-INTERVAL:P3D
CALSCALE:GREGORIAN
BEGIN:VEVENT
DTSTART:20190527T180000Z
DTEND:20190527T200000Z
X-MICROSOFT-CDO-ALLDAYEVENT:FALSE
SUMMARY:VFW Memorial Ceremony
DESCRIPTION:Memorial Ceremony at Veteran's Memorial Park (Street of Flags) in Westport begins at 11:00am.\n\nLuncheon follows at the VFW Hall.\n\nSponsored by VFW Post #3057.
X-ALT-DESC;FMTTYPE=text/html:<span style="font-size: 16px\; caret-color: rgb(0\, 51\, 102)\; font-family: arial\; background-color: rgb(234\, 223\, 191)\;">Memorial Ceremony at Veteran&#39\;s Memorial Park (Street of Flags) in Westport begins at 11:00am.<br />\nLuncheon follows at the VFW Hall.<br />\nSponsored by VFW Post #3057.&nbsp\;</span>
LOCATION:Veteran's Memorial Park Westport\, WA
UID:e.26.11769
SEQUENCE:3
DTSTAMP:20260424T132555Z
URL:https://chamber.graysharbor.org/events/details/vfw-memorial-ceremony-11769
END:VEVENT

END:VCALENDAR
