BEGIN:VCALENDAR
VERSION:2.0
PRODID:-//ChamberMaster//Event Calendar 2.0//EN
METHOD:PUBLISH
X-PUBLISHED-TTL:P3D
REFRESH-INTERVAL:P3D
CALSCALE:GREGORIAN
BEGIN:VEVENT
DTSTART:20170826T030000Z
DTEND:20170826T050000Z
X-MICROSOFT-CDO-ALLDAYEVENT:FALSE
SUMMARY:Village People at 7th St. Theatre
DESCRIPTION:She Bully Events is proud to present for one night only\, live on stage\, the kings of disco\, Village People! Friday\, August 25th at the 7th Street Theatre in Hoquiam! Village People will be performing the hits that have continued to make them a household name! This is going to be disco party that you wont forget! Doors open at 7PM\, show starts at 8PM.\n\n\n\n70's attire encouraged!
X-ALT-DESC;FMTTYPE=text/html:<br />\nShe Bully Events is proud to present for one night only\, live on stage\, the kings of disco\, Village People! Friday\, August 25th at the 7th Street Theatre in Hoquiam! Village People will be performing the hits that have continued to make them a household name! This is going to be disco party that you wont forget! Doors open at 7PM\, show starts at 8PM.<br />\n<br />\n70&rsquo\;s attire encouraged!
LOCATION:7th Street Theatre Hoquiam\, WA
UID:e.26.7719
SEQUENCE:3
DTSTAMP:20260425T230600Z
URL:https://chamber.graysharbor.org/events/details/village-people-at-7th-st-theatre-7719
END:VEVENT

END:VCALENDAR
