BEGIN:VCALENDAR
VERSION:2.0
PRODID:-//ChamberMaster//Event Calendar 2.0//EN
METHOD:PUBLISH
X-PUBLISHED-TTL:P3D
REFRESH-INTERVAL:P3D
CALSCALE:GREGORIAN
BEGIN:VEVENT
DTSTART:20210224T000000Z
DTEND:20210224T020000Z
X-MICROSOFT-CDO-ALLDAYEVENT:FALSE
SUMMARY:Virtual Admissions Information Session
DESCRIPTION:Join Grays Harbor College Student Ambassadors and admissions staff for this virtual Admissions Information Session via Zoom. This session will last approximately two hours and are designed for prospective students that have not completed all of the getting started steps. Attend the whole event\, or just drop in when you re able!\n\nThe session will include:\n\n- Applying for admissions\n\n- Financial aid information\n\n- Placement testing\n\n- General Q&A
X-ALT-DESC;FMTTYPE=text/html:<div class="kvgmc6g5 cxmmr5t8 oygrvhab hcukyx3x c1et5uql" style="word-wrap: break-word\; margin: 0px\; font-family: system-ui\, -apple-system\, BlinkMacSystemFont\, &quot\;.SFNSText-Regular&quot\;\, sans-serif\; caret-color: rgb(5\, 5\, 5)\; color: rgb(5\, 5\, 5)\; font-size: 15px\;">Join Grays Harbor College Student Ambassadors and admissions staff for this virtual Admissions Information Session via Zoom. This session will last approximately two hours and are designed for prospective students that have not completed all of the getting started steps. Attend the whole event\, or just drop in when you&acute\;re able!</div>\n\n<div class="o9v6fnle cxmmr5t8 oygrvhab hcukyx3x c1et5uql" style="word-wrap: break-word\; margin: 0.5em 0px 0px\; font-family: system-ui\, -apple-system\, BlinkMacSystemFont\, &quot\;.SFNSText-Regular&quot\;\, sans-serif\; caret-color: rgb(5\, 5\, 5)\; color: rgb(5\, 5\, 5)\; font-size: 15px\;">The session will include:<br />\n- Applying for admissions<br />\n- Financial aid information<br />\n- Placement testing<br />\n- General Q&amp\;A</div>\n
LOCATION:To join an event\, log on via Zoom with the below information: Join Zoom Meeting https://ghc.zoom.us/j/85402714402?pwd=Z1MxdkZYczJJY2dURVFJNlFXUmtQQT09&fbclid=IwAR1hv9-b74JLSB9KCq9z-Kr98JrzkWawwyLQ4P6svhddnM0s8EdYKh4YSsI#success Meeting ID: 854 0271 4402 Passcode: 381526
UID:e.26.12580
SEQUENCE:3
DTSTAMP:20260424T025414Z
URL:https://chamber.graysharbor.org/events/details/virtual-admissions-information-session-12580
END:VEVENT

END:VCALENDAR
