BEGIN:VCALENDAR
VERSION:2.0
PRODID:-//ChamberMaster//Event Calendar 2.0//EN
METHOD:PUBLISH
X-PUBLISHED-TTL:P3D
REFRESH-INTERVAL:P3D
CALSCALE:GREGORIAN
BEGIN:VEVENT
DTSTART:20200610T001500Z
DTEND:20200610T010000Z
X-MICROSOFT-CDO-ALLDAYEVENT:FALSE
SUMMARY:Virtual Business After Hours
DESCRIPTION:Details to come!
X-ALT-DESC;FMTTYPE=text/html:Details to come!
LOCATION:Online - Zoom meeting
UID:e.26.12468
SEQUENCE:3
DTSTAMP:20260424T104019Z
URL:https://chamber.graysharbor.org/events/details/virtual-business-after-hours-12468
END:VEVENT

END:VCALENDAR
