BEGIN:VCALENDAR
VERSION:2.0
PRODID:-//ChamberMaster//Event Calendar 2.0//EN
METHOD:PUBLISH
X-PUBLISHED-TTL:P3D
REFRESH-INTERVAL:P3D
CALSCALE:GREGORIAN
BEGIN:VEVENT
DTSTART:20201216T010000Z
DTEND:20201216T014500Z
X-MICROSOFT-CDO-ALLDAYEVENT:FALSE
SUMMARY:Virtual Business After Hours
DESCRIPTION:Save the Date!\n\n\n\nDetails TBD!
X-ALT-DESC;FMTTYPE=text/html:<span style="font-size:14px\;"><strong>Save the Date!<br />\n<br />\nDetails TBD!</strong></span>
LOCATION:
UID:e.26.12538
SEQUENCE:3
DTSTAMP:20260424T041918Z
URL:https://chamber.graysharbor.org/events/details/virtual-business-after-hours-12538
END:VEVENT

END:VCALENDAR
