BEGIN:VCALENDAR
VERSION:2.0
PRODID:-//ChamberMaster//Event Calendar 2.0//EN
METHOD:PUBLISH
X-PUBLISHED-TTL:P3D
REFRESH-INTERVAL:P3D
CALSCALE:GREGORIAN
BEGIN:VEVENT
DTSTART:20200728T190000Z
DTEND:20200728T194500Z
X-MICROSOFT-CDO-ALLDAYEVENT:FALSE
SUMMARY:Virtual Business Forum
DESCRIPTION:Karolyn Holden\, Grays Harbor Public Health Director\, will be discussing the evolution of Grays Harbor County's response to COVID-19 during the July Virtual Business Forum. Karolyn will also share where she sees things going from here. After a brief presentation\, the floor will be open for Q&A. \n\n\n\nHow to RSVP: The July Business Forum will be held via Zoom and is free to attend. Zoom Meeting details will be emailed one hour before the webinar begins on July 28th. Please download Zoom to your computer\, cell phone\, laptop\, or tablet prior to the event. To receive meeting details\, RSVP with your name and email through our Smore flyer here: www.smore.com/k634r-virtual-business-forum\n\n\n\nAlternatively\, you can RSVP by emailing Candie Gleason at candie@graysharbor.org.\n\n\n\nPlease note: capacity will be limited. Contact GGHI with any questions.
X-ALT-DESC;FMTTYPE=text/html:<span style="caret-color: rgb(29\, 33\, 41)\; color: rgb(29\, 33\, 41)\; font-family: system-ui\, -apple-system\, BlinkMacSystemFont\, &quot\;.SFNSText-Regular&quot\;\, sans-serif\; font-size: 14px\; white-space: pre-wrap\;">Karolyn Holden\, Grays Harbor Public Health Director\, will be discussing the evolution of Grays Harbor County&#39\;s response to COVID-19 during the July Virtual Business Forum. Karolyn will also share where she sees things going from here. After a brief presentation\, the floor will be open for Q&amp\;A. </span><br style="caret-color: rgb(29\, 33\, 41)\; color: rgb(29\, 33\, 41)\; font-family: system-ui\, -apple-system\, BlinkMacSystemFont\, &quot\;.SFNSText-Regular&quot\;\, sans-serif\; font-size: 14px\; white-space: pre-wrap\;" />\n<br style="caret-color: rgb(29\, 33\, 41)\; color: rgb(29\, 33\, 41)\; font-family: system-ui\, -apple-system\, BlinkMacSystemFont\, &quot\;.SFNSText-Regular&quot\;\, sans-serif\; font-size: 14px\; white-space: pre-wrap\;" />\n<span style="caret-color: rgb(29\, 33\, 41)\; color: rgb(29\, 33\, 41)\; font-family: system-ui\, -apple-system\, BlinkMacSystemFont\, &quot\;.SFNSText-Regular&quot\;\, sans-serif\; font-size: 14px\; white-space: pre-wrap\;">How to RSVP: The July Business Forum will be held via Zoom and is free to attend. Zoom Meeting details will be emailed one hour before the webinar begins on July 28th. Please download Zoom to your computer\, cell phone\, laptop\, or tablet prior to the event. To receive meeting details\, RSVP with your name and email through our Smore flyer here: </span><a data-lynx-mode="hover" data-lynx-uri="https://l.facebook.com/l.php?u=http%3A%2F%2Fwww.smore.com%2Fk634r-virtual-business-forum%3Ffbclid%3DIwAR1_FKlROEX8vYgCN_plhUL9Wq1O9VeBAJsjicsD0I6zKpXU_3ExwRj_t1U&amp\;h=AT0RQw8AFYNHDcaUp2bxRadwgCdk0ZhqZdNw42BahGmJ80KJUbSm_Pu3zWxNJZC50JhPfXvQEf3MoctKHBIBBlzvckEZ3Jfr7qq-oDMr7WhqYMskO50D5v98wZ5ivEyVb-ACwaMhulaMY3gsO0kiDaGCEw" href="http://www.smore.com/k634r-virtual-business-forum?fbclid=IwAR1_FKlROEX8vYgCN_plhUL9Wq1O9VeBAJsjicsD0I6zKpXU_3ExwRj_t1U" rel="nofollow noopener" style="color: rgb(56\, 88\, 152)\; cursor: pointer\; text-decoration: none\; font-family: system-ui\, -apple-system\, BlinkMacSystemFont\, &quot\;.SFNSText-Regular&quot\;\, sans-serif\; font-size: 14px\; white-space: pre-wrap\;" target="_blank">www.smore.com/k634r-virtual-business-forum</a><br style="caret-color: rgb(29\, 33\, 41)\; color: rgb(29\, 33\, 41)\; font-family: system-ui\, -apple-system\, BlinkMacSystemFont\, &quot\;.SFNSText-Regular&quot\;\, sans-serif\; font-size: 14px\; white-space: pre-wrap\;" />\n<br style="caret-color: rgb(29\, 33\, 41)\; color: rgb(29\, 33\, 41)\; font-family: system-ui\, -apple-system\, BlinkMacSystemFont\, &quot\;.SFNSText-Regular&quot\;\, sans-serif\; font-size: 14px\; white-space: pre-wrap\;" />\n<span style="caret-color: rgb(29\, 33\, 41)\; color: rgb(29\, 33\, 41)\; font-family: system-ui\, -apple-system\, BlinkMacSystemFont\, &quot\;.SFNSText-Regular&quot\;\, sans-serif\; font-size: 14px\; white-space: pre-wrap\;">Alternatively\, you can RSVP by emailing Candie Gleason at candie@graysharbor.org.</span><br style="caret-color: rgb(29\, 33\, 41)\; color: rgb(29\, 33\, 41)\; font-family: system-ui\, -apple-system\, BlinkMacSystemFont\, &quot\;.SFNSText-Regular&quot\;\, sans-serif\; font-size: 14px\; white-space: pre-wrap\;" />\n<br style="caret-color: rgb(29\, 33\, 41)\; color: rgb(29\, 33\, 41)\; font-family: system-ui\, -apple-system\, BlinkMacSystemFont\, &quot\;.SFNSText-Regular&quot\;\, sans-serif\; font-size: 14px\; white-space: pre-wrap\;" />\n<span style="caret-color: rgb(29\, 33\, 41)\; color: rgb(29\, 33\, 41)\; font-family: system-ui\, -apple-system\, BlinkMacSystemFont\, &quot\;.SFNSText-Regular&quot\;\, sans-serif\; font-size: 14px\; white-space: pre-wrap\;">Please note: capacity will be limited. Contact GGHI with any questions.</span>
LOCATION:Zoom call
UID:e.26.12473
SEQUENCE:3
DTSTAMP:20260424T115801Z
URL:https://chamber.graysharbor.org/events/details/virtual-business-forum-12473
END:VEVENT

END:VCALENDAR
