BEGIN:VCALENDAR
VERSION:2.0
PRODID:-//ChamberMaster//Event Calendar 2.0//EN
METHOD:PUBLISH
X-PUBLISHED-TTL:P3D
REFRESH-INTERVAL:P3D
CALSCALE:GREGORIAN
BEGIN:VEVENT
DTSTART:20201201T200000Z
DTEND:20201201T210000Z
X-MICROSOFT-CDO-ALLDAYEVENT:FALSE
SUMMARY:Virtual Business Forum: Boeing in WA
DESCRIPTION:Boeing in Washington: Navigating the COVID-19 Pandemic\n\nGreater Grays Harbor\, Inc. (GGHI) is pleased to announce that Ryan Tomasich\, Senior Manager of State and Local Government Operations at Boeing Commercial Airplanes\, will present during the upcoming Business Forum.\n\nTomasich will present on the impact of the COVID-19 pandemic on the aerospace industry and how Boeing is working to navigate through these unprecedented times. In his presentation\, Tomasich will share Boeing's latest market outlook\, explain the steps the company is making to best respond to the new market realities\, and educate attendees about Boeing's ongoing partnerships and investments in the Puget Sound community.\n\nPlease download Zoom to your computer\, cell phone\, laptop\, or tablet prior to the event.\n\nPlease Note: We are asking that participants leave their microphone and video off for the duration of the presentation. The chat box may be utilized to ask questions.\n\nContact GGHI CEO\, Lynnette Buffington at lbuffington@graysharbor.org with any questions.
X-ALT-DESC;FMTTYPE=text/html:<div class="kvgmc6g5 cxmmr5t8 oygrvhab hcukyx3x c1et5uql" style="word-wrap: break-word\; margin: 0px\; font-family: system-ui\, -apple-system\, BlinkMacSystemFont\, &quot\;.SFNSText-Regular&quot\;\, sans-serif\; caret-color: rgb(5\, 5\, 5)\; color: rgb(5\, 5\, 5)\; font-size: 15px\;"><strong>Boeing in Washington: Navigating the COVID-19 Pandemic</strong></div>\n\n<div class="o9v6fnle cxmmr5t8 oygrvhab hcukyx3x c1et5uql" style="word-wrap: break-word\; margin: 0.5em 0px 0px\; font-family: system-ui\, -apple-system\, BlinkMacSystemFont\, &quot\;.SFNSText-Regular&quot\;\, sans-serif\; caret-color: rgb(5\, 5\, 5)\; color: rgb(5\, 5\, 5)\; font-size: 15px\;">Greater Grays Harbor\, Inc. (GGHI) is pleased to announce that Ryan Tomasich\, Senior Manager of State and Local Government Operations at Boeing Commercial Airplanes\, will present during the upcoming Business Forum.</div>\n\n<div class="o9v6fnle cxmmr5t8 oygrvhab hcukyx3x c1et5uql" style="word-wrap: break-word\; margin: 0.5em 0px 0px\; font-family: system-ui\, -apple-system\, BlinkMacSystemFont\, &quot\;.SFNSText-Regular&quot\;\, sans-serif\; caret-color: rgb(5\, 5\, 5)\; color: rgb(5\, 5\, 5)\; font-size: 15px\;">Tomasich will present on the impact of the COVID-19 pandemic on the aerospace industry and how Boeing is working to navigate through these unprecedented times. In his presentation\, Tomasich will share Boeing&rsquo\;s latest market outlook\, explain the steps the company is making to best respond to the new market realities\, and educate attendees about Boeing&rsquo\;s ongoing partnerships and investments in the Puget Sound community.</div>\n\n<div class="o9v6fnle cxmmr5t8 oygrvhab hcukyx3x c1et5uql" style="word-wrap: break-word\; margin: 0.5em 0px 0px\; font-family: system-ui\, -apple-system\, BlinkMacSystemFont\, &quot\;.SFNSText-Regular&quot\;\, sans-serif\; caret-color: rgb(5\, 5\, 5)\; color: rgb(5\, 5\, 5)\; font-size: 15px\;">Please download Zoom to your computer\, cell phone\, laptop\, or tablet prior to the event.</div>\n\n<div class="o9v6fnle cxmmr5t8 oygrvhab hcukyx3x c1et5uql" style="word-wrap: break-word\; margin: 0.5em 0px 0px\; font-family: system-ui\, -apple-system\, BlinkMacSystemFont\, &quot\;.SFNSText-Regular&quot\;\, sans-serif\; caret-color: rgb(5\, 5\, 5)\; color: rgb(5\, 5\, 5)\; font-size: 15px\;"><strong>Please Note:</strong> We are asking that participants leave their microphone and video off for the duration of the presentation. The chat box may be utilized to ask questions.</div>\n\n<div class="o9v6fnle cxmmr5t8 oygrvhab hcukyx3x c1et5uql" style="word-wrap: break-word\; margin: 0.5em 0px 0px\; font-family: system-ui\, -apple-system\, BlinkMacSystemFont\, &quot\;.SFNSText-Regular&quot\;\, sans-serif\; caret-color: rgb(5\, 5\, 5)\; color: rgb(5\, 5\, 5)\; font-size: 15px\;">Contact GGHI CEO\, Lynnette Buffington at lbuffington@graysharbor.org with any questions.</div>\n
LOCATION:Online via Zoom
UID:e.26.12531
SEQUENCE:3
DTSTAMP:20260424T042112Z
URL:https://chamber.graysharbor.org/events/details/virtual-business-forum-boeing-in-wa-12531
END:VEVENT

END:VCALENDAR
