BEGIN:VCALENDAR
VERSION:2.0
PRODID:-//ChamberMaster//Event Calendar 2.0//EN
METHOD:PUBLISH
X-PUBLISHED-TTL:P3D
REFRESH-INTERVAL:P3D
CALSCALE:GREGORIAN
BEGIN:VEVENT
DTSTART:20210223T200000Z
DTEND:20210223T210000Z
X-MICROSOFT-CDO-ALLDAYEVENT:FALSE
SUMMARY:Virtual Business Forum - GGHI Annual Meeting
DESCRIPTION:Join us for the Greater Grays Harbor\, Inc. Annual Meeting.  \n\n\n\nJoin us as we celebrate what we've accomplished in the past year and plan for the future.  Stay tuned to this page for agenda and speaker updates.\n\n\n\nSpeakers include:\n\n	Welcome from the Chair of the Board - Tony Enzler\n	What 2020 Taught Us and What 2021 Will Offer - Lynnette Buffington\, Greater Grays Harbor\, Inc\, CEO\n	Meet the Commissioner - Updates and Insights from Commissioner Kevin Pine\n	What Members Value - Derek Schlaht\, Greater Grays Harbor\, Inc\, Member Services Director\n	Business Outlook Survey - 3 Touchpoints - Lynnette Buffington \, Greater Grays Harbor\, Inc\, CEO
X-ALT-DESC;FMTTYPE=text/html:<span style="font-size:14px\;"><span style="font-family:arial\;">Join us for the Greater Grays Harbor\, Inc. Annual Meeting.&nbsp\;&nbsp\;<br />\n<br />\nJoin us as we celebrate what we&#39\;ve accomplished in the past year and plan for the future.&nbsp\; Stay tuned to this page for agenda and speaker updates.<br />\n<br />\n<strong>Speakers include:</strong></span></span>\n<ul>\n	<li><span style="font-size:14px\;"><span style="font-family:arial\;">Welcome from the Chair of the Board - Tony Enzler</span></span></li>\n	<li><span style="font-size:14px\;"><span style="font-family:arial\;">What 2020 Taught Us and What 2021 Will Offer - Lynnette Buffington\, Greater Grays Harbor\, Inc\, CEO</span></span></li>\n	<li style="padding: 0px\; margin: 0px\; line-height: 1.2\; font-size: 16px\; text-align: left\; color: rgb(55\, 55\, 55)\;"><span style="font-size:14px\;"><span style="font-family:arial\;">Meet the Commissioner - Updates and Insights from Commissioner Kevin Pine</span></span></li>\n	<li><span style="font-size:14px\;"><span style="font-family:arial\;">What Members Value - Derek Schlaht\, Greater Grays Harbor\, Inc\, Member Services Director</span></span></li>\n	<li><span style="font-size:14px\;"><span style="font-family:arial\;">Business Outlook Survey - 3 Touchpoints - Lynnette Buffington \, Greater Grays Harbor\, Inc\, CEO</span></span></li>\n</ul>\n
LOCATION:This event will take place on the Zoom Webinar platform. Access information will be sent the morning of the event.
UID:e.26.12575
SEQUENCE:3
DTSTAMP:20260424T013327Z
URL:https://chamber.graysharbor.org/events/details/virtual-business-forum-gghi-annual-meeting-12575
END:VEVENT

END:VCALENDAR
