BEGIN:VCALENDAR
VERSION:2.0
PRODID:-//ChamberMaster//Event Calendar 2.0//EN
METHOD:PUBLISH
X-PUBLISHED-TTL:P3D
REFRESH-INTERVAL:P3D
CALSCALE:GREGORIAN
BEGIN:VEVENT
DTSTART:20200623T180000Z
DTEND:20200623T184500Z
X-MICROSOFT-CDO-ALLDAYEVENT:FALSE
SUMMARY:Virtual Business Forum with Congressman Kilmer
DESCRIPTION:Greater Grays Harbor is honored to announce that the upcoming Virtual Business Forum will feature a presentation on economic recovery from Congressman Derek Kilmer. The event will take place via Zoom on Tuesday\, June 23rd from 11am - 11:45am. \n\n \n\nKilmer will begin the meeting with an overview of what Congress has done in response to COVID-19 including the CARES Act and HEROES Act. Kilmer will also discuss other highlights from the past few months and provide a glimpse into what's to come in the future.\n\n \n\nAfter a brief presentation\, the floor will be open for participants to ask questions. Bring your stories\, questions or concerns and have your voice heard. If you're unable to attend the event or would prefer for one the GGHI staff to read your question\, we encourage you to send them in in advance to Grant Jones at gjones@graysharbor.org. \n\nPlease note: capacity will be limited. Contact GGHI with any questions.
X-ALT-DESC;FMTTYPE=text/html:<p style="margin: 0px\; padding: 0px\; caret-color: rgb(85\, 85\, 85)\; color: rgb(85\, 85\, 85)\; font-family: Roboto\, &quot\;Lucida Grande&quot\;\, arial\, sans-serif\; font-size: 15px\;"><span style="font-size:14px\;"><span style="font-family:arial\;"><span style="color:#000000\;">Greater Grays Harbor is honored to announce that the upcoming Virtual Business Forum will feature a presentation on economic recovery from&nbsp\;</span><a data-id="l-0264968938" href="https://kilmer.house.gov/" rel="nofollow" style="cursor: pointer\; color: rgb(28\, 110\, 152)\;" target="_blank"><span style="color:#000000\;">Congressman Derek Kilmer</span></a><span style="color:#000000\;">. The event will take place via Zoom on Tuesday\, June 23rd from 11am - 11:45am.&nbsp\;</span></span></span></p>\n\n<p style="margin: 0px\; padding: 0px\; caret-color: rgb(85\, 85\, 85)\; color: rgb(85\, 85\, 85)\; font-family: Roboto\, &quot\;Lucida Grande&quot\;\, arial\, sans-serif\; font-size: 15px\;">&nbsp\;</p>\n\n<p style="margin: 0px\; padding: 0px\; caret-color: rgb(85\, 85\, 85)\; color: rgb(85\, 85\, 85)\; font-family: Roboto\, &quot\;Lucida Grande&quot\;\, arial\, sans-serif\; font-size: 15px\;"><span style="color:#000000\;"><span style="font-size:14px\;"><span style="font-family:arial\;">Kilmer will begin the meeting with an overview of what Congress has done in response to COVID-19 including the CARES Act and HEROES Act. Kilmer will also discuss other highlights from the past few months and provide a glimpse into what&#39\;s to come in the future.</span></span></span></p>\n\n<p style="margin: 0px\; padding: 0px\; caret-color: rgb(85\, 85\, 85)\; color: rgb(85\, 85\, 85)\; font-family: Roboto\, &quot\;Lucida Grande&quot\;\, arial\, sans-serif\; font-size: 15px\;">&nbsp\;</p>\n\n<p style="margin: 0px\; padding: 0px\; caret-color: rgb(85\, 85\, 85)\; color: rgb(85\, 85\, 85)\; font-family: Roboto\, &quot\;Lucida Grande&quot\;\, arial\, sans-serif\; font-size: 15px\;"><span style="font-size:14px\;"><span style="font-family:arial\;"><span style="color:#000000\;">After a brief presentation\, the floor will be open for participants to ask questions. Bring your stories\, questions or concerns and have your voice heard. If you&#39\;re unable to attend the event or would prefer for one the GGHI staff to read your question\, we encourage you to send them in in advance to Grant Jones at&nbsp\;</span><a data-id="l-4763339252" href="mailto:gjones@graysharbor.org" rel="nofollow" style="cursor: pointer\; color: rgb(28\, 110\, 152)\;" target="_blank"><span style="color:#000000\;">gjones@graysharbor.org</span></a><span style="color:#000000\;">.&nbsp\;</span></span></span></p>\n\n<p style="margin: 0px\; padding: 0px\; caret-color: rgb(85\, 85\, 85)\; color: rgb(85\, 85\, 85)\; font-family: Roboto\, &quot\;Lucida Grande&quot\;\, arial\, sans-serif\; font-size: 15px\;"><span style="color:#000000\;"><span style="font-size:14px\;"><span style="font-family:arial\;">Please note:&nbsp\;<span style="font-style: inherit\; font-weight: 700\;">capacity</span><span style="font-style: inherit\; font-weight: 700\;">&nbsp\;will be limited</span>. Contact GGHI with any questions.</span></span></span></p>\n
LOCATION:Online via Zoom
UID:e.26.12471
SEQUENCE:3
DTSTAMP:20260424T104347Z
URL:https://chamber.graysharbor.org/events/details/virtual-business-forum-with-congressman-kilmer-12471
END:VEVENT

END:VCALENDAR
