BEGIN:VCALENDAR
VERSION:2.0
PRODID:-//ChamberMaster//Event Calendar 2.0//EN
METHOD:PUBLISH
X-PUBLISHED-TTL:P3D
REFRESH-INTERVAL:P3D
CALSCALE:GREGORIAN
BEGIN:VEVENT
DTSTART:20170520T210000Z
DTEND:20170520T230000Z
X-MICROSOFT-CDO-ALLDAYEVENT:FALSE
SUMMARY:Voices from the Harbor: A Community Conversation About Homelessness
DESCRIPTION:How have you been impacted by homelessness on the Harbor? What would you most like to see happen to strengthen your community? Sharing stories reinforces our sense of connection and identity   to our history\, each other\, and the places where we live. Voices from the Harbor provides opportunities to strengthen that connection to bridge generations\, build relationships\, and strengthen the future on the Harbor. Join us on May 20 to pause and consider your personal hopes\, fears\, and lessons from your own direct experience of homelessness. We are inviting all residents of the Harbor\, including businesses\, service providers\, and those who have direct experience being homeless\, to join in a facilitated conversation. Our intention is to provide an opportunity to listen deeply (beyond sector\, issue\, or position)\, and challenge our assumptions about homelessness in Harbor communities. We will commit to respectful listening and seek to understand each others' perspectives. There are many efforts underway that are attempting to address homelessness. Our hope is that this event will add value to the ongoing work and conversation.
X-ALT-DESC;FMTTYPE=text/html:How have you been impacted by homelessness on the Harbor? What would you most like to see happen to strengthen your community? Sharing stories reinforces our sense of connection and identity &ndash\; to our history\, each other\, and the places where we live. Voices from the Harbor provides opportunities to strengthen that connection to bridge generations\, build relationships\, and strengthen the future on the Harbor. Join us on May 20 to pause and consider your personal hopes\, fears\, and lessons from your own direct experience of homelessness. We are inviting all residents of the Harbor\, including businesses\, service providers\, and those who have direct experience being homeless\, to join in a facilitated conversation. Our intention is to provide an opportunity to listen deeply (beyond sector\, issue\, or position)\, and challenge our assumptions about homelessness in Harbor communities. We will commit to respectful listening and seek to understand each others&rsquo\; perspectives. There are many efforts underway that are attempting to address homelessness. Our hope is that this event will add value to the ongoing work and conversation.
LOCATION:Amazing Grace Lutheran Church\, 111 E 4th Ave in Aberdeen
UID:e.26.7704
SEQUENCE:3
DTSTAMP:20260426T033103Z
URL:https://chamber.graysharbor.org/events/details/voices-from-the-harbor-a-community-conversation-about-homelessness-7704
END:VEVENT

END:VCALENDAR
