BEGIN:VCALENDAR
VERSION:2.0
PRODID:-//ChamberMaster//Event Calendar 2.0//EN
METHOD:PUBLISH
X-PUBLISHED-TTL:P3D
REFRESH-INTERVAL:P3D
CALSCALE:GREGORIAN
BEGIN:VEVENT
DTSTART:20171021T180000Z
DTEND:20171021T210000Z
X-MICROSOFT-CDO-ALLDAYEVENT:FALSE
SUMMARY:Volunteer Opportunities Fair
DESCRIPTION:The 19th Annual Volunteer Opportunities Fair will be a great way for folks to talk with the participating nonprofit groups who depend on volunteers. You can pick up information and sign up that day! This will help students who need community/learning hours for graduation AND will help adults who want to make a difference in their community. :-)
X-ALT-DESC;FMTTYPE=text/html:<span style="color: rgb(75\, 79\, 86)\; font-family: Helvetica\, Arial\, sans-serif\; font-size: 14px\; background-color: rgb(255\, 255\, 255)\;">The 19th Annual Volunteer Opportunities Fair will be a great way for folks to talk with the participating nonprofit groups who depend on volunteers. You can pick up information and sign up that day! This will help students who need community/learning hours for graduation AND will help adults who want to make a difference in their community. :-)</span>
LOCATION:Aberdeen Eagles 208 W Market St. Aberdeen\, WA
UID:e.26.8270
SEQUENCE:3
DTSTAMP:20260425T213317Z
URL:https://chamber.graysharbor.org/events/details/volunteer-opportunities-fair-8270
END:VEVENT

END:VCALENDAR
