BEGIN:VCALENDAR
VERSION:2.0
PRODID:-//ChamberMaster//Event Calendar 2.0//EN
METHOD:PUBLISH
X-PUBLISHED-TTL:P3D
REFRESH-INTERVAL:P3D
CALSCALE:GREGORIAN
BEGIN:VEVENT
DTSTART:20180429T200000Z
DTEND:20180429T220000Z
X-MICROSOFT-CDO-ALLDAYEVENT:FALSE
SUMMARY:Washington CoastSavers Beach Clean Up Day
DESCRIPTION:Join us in supporting the Washington CoastSavers Beach cleaning effort as we put together a team from Oyhut Bay.\n\n\n\nGloves and bags will be supplied. \n\nDiscounts on Sunday Brunch at the Oyhut Bay Bistro to fuel us\, grab a coffee from Riptide Coffee Co. and celebrate in the LOFT after!
X-ALT-DESC;FMTTYPE=text/html:<span style="color: rgb(75\, 79\, 86)\; font-family: Helvetica\, Arial\, sans-serif\; font-size: 14px\; background-color: rgb(255\, 255\, 255)\;">Join us in supporting the Washington CoastSavers Beach cleaning effort as we put together a team from Oyhut Bay.</span><br style="color: rgb(75\, 79\, 86)\; font-family: Helvetica\, Arial\, sans-serif\; font-size: 14px\; background-color: rgb(255\, 255\, 255)\;" />\n<br style="color: rgb(75\, 79\, 86)\; font-family: Helvetica\, Arial\, sans-serif\; font-size: 14px\; background-color: rgb(255\, 255\, 255)\;" />\n<span style="color: rgb(75\, 79\, 86)\; font-family: Helvetica\, Arial\, sans-serif\; font-size: 14px\; background-color: rgb(255\, 255\, 255)\;">Gloves and bags will be supplied.&nbsp\;</span><br style="color: rgb(75\, 79\, 86)\; font-family: Helvetica\, Arial\, sans-serif\; font-size: 14px\; background-color: rgb(255\, 255\, 255)\;" />\n<span style="color: rgb(75\, 79\, 86)\; font-family: Helvetica\, Arial\, sans-serif\; font-size: 14px\; background-color: rgb(255\, 255\, 255)\;">Discounts on Sunday Brunch at the Oyhut Bay Bistro to fuel us\, grab a coffee from Riptide Coffee Co. and celebrate in the LOFT after!</span>
LOCATION:Damon Point Ocean Shores
UID:e.26.10620
SEQUENCE:3
DTSTAMP:20260425T113721Z
URL:https://chamber.graysharbor.org/events/details/washington-coastsavers-beach-clean-up-day-10620
END:VEVENT

END:VCALENDAR
