BEGIN:VCALENDAR
VERSION:2.0
PRODID:-//ChamberMaster//Event Calendar 2.0//EN
METHOD:PUBLISH
X-PUBLISHED-TTL:P3D
REFRESH-INTERVAL:P3D
CALSCALE:GREGORIAN
BEGIN:VEVENT
DTSTART:20170720T013000Z
DTEND:20170720T030000Z
X-MICROSOFT-CDO-ALLDAYEVENT:FALSE
SUMMARY:Washington Connections Academy Free Family Information Session
DESCRIPTION:Washington Connections Academy\, a tuition-free virtual public school\, will host a free information session for families interested in learning about its online program and individualized approach to education in preparation for the 2017-18 academic year. Washington Connections Academy will serve grades K-10 in the 2017-18 school year. The school will add one grade per year\, ultimately serving students in grades K 12. Connections Academy is a division of Connections Education\, which is accredited by AdvancED. The information session will provide families with an opportunity to meet with a Connections Academy teacher\, thoroughly explore the school's program and curriculum\, and learn about the enrollment process. Other topics covered include: how teachers interact with students in the virtual environment\, personalized learning opportunities including options for accelerated learning and gifted programs\, college preparation\, socialization\, the role of the parent or other Learning Coach\, and the use of technology.
X-ALT-DESC;FMTTYPE=text/html:Washington Connections Academy\, a tuition-free virtual public school\, will host a free information session for families interested in learning about its online program and individualized approach to education in preparation for the 2017-18 academic year. Washington Connections Academy will serve grades K-10 in the 2017-18 school year. The school will add one grade per year\, ultimately serving students in grades K&ndash\;12. Connections Academy is a division of Connections Education\, which is accredited by AdvancED. The information session will provide families with an opportunity to meet with a Connections Academy teacher\, thoroughly explore the school&rsquo\;s program and curriculum\, and learn about the enrollment process. Other topics covered include: how teachers interact with students in the virtual environment\, personalized learning opportunities including options for accelerated learning and gifted programs\, college preparation\, socialization\, the role of the parent or other Learning Coach\, and the use of technology.
LOCATION:Aberdeen Museum of History 111 E. Third St. Aberdeen\, WA 98520
UID:e.26.8045
SEQUENCE:3
DTSTAMP:20260426T003438Z
URL:https://chamber.graysharbor.org/events/details/washington-connections-academy-free-family-information-session-8045
END:VEVENT

END:VCALENDAR
