BEGIN:VCALENDAR
VERSION:2.0
PRODID:-//ChamberMaster//Event Calendar 2.0//EN
METHOD:PUBLISH
X-PUBLISHED-TTL:P3D
REFRESH-INTERVAL:P3D
CALSCALE:GREGORIAN
BEGIN:VEVENT
DTSTART:20191102T170000Z
DTEND:20191103T003000Z
X-MICROSOFT-CDO-ALLDAYEVENT:FALSE
SUMMARY:Waugh's Christmas Open House
DESCRIPTION:Come down to Waugh's this Saturday\, November 2nd\, between 10am - 5pm! There will be discounted racks\, cookies and coffee just for you. We hope you see everyone there!
X-ALT-DESC;FMTTYPE=text/html:<span style="caret-color: rgb(29\, 33\, 41)\; color: rgb(29\, 33\, 41)\; font-family: system-ui\, -apple-system\, BlinkMacSystemFont\, &quot\;.SFNSText-Regular&quot\;\, sans-serif\; font-size: 14px\; white-space: pre-wrap\;">Come down to Waugh&#39\;s this Saturday\, November 2nd\, between 10am - 5pm! There will be discounted racks\, cookies and coffee just for you. We hope you see everyone there!</span>
LOCATION:pin Waugh's Men's and Women's Apparel 110 E Heron St\, Aberdeen\, Washington 98520
UID:e.26.12267
SEQUENCE:3
DTSTAMP:20260424T041949Z
URL:https://chamber.graysharbor.org/events/details/waugh-s-christmas-open-house-12267
END:VEVENT

END:VCALENDAR
