BEGIN:VCALENDAR
VERSION:2.0
PRODID:-//ChamberMaster//Event Calendar 2.0//EN
METHOD:PUBLISH
X-PUBLISHED-TTL:P3D
REFRESH-INTERVAL:P3D
CALSCALE:GREGORIAN
BEGIN:VEVENT
DTSTART:20180324T023000Z
DTEND:20180325T040000Z
X-MICROSOFT-CDO-ALLDAYEVENT:FALSE
SUMMARY:Wayne's World at 7th Street Theatre
DESCRIPTION:March 23 & 24 @ 7:30\n\nTickets are $6 for all ages.\n\nTickets are available at City Drug\, Crown Drug\, Harbor Drug\, online or at the door 30 minutes prior to the movie.\n\n\n\nSlacker pals Wayne and Garth find the cable access TV show that they produce in what is literally "Wayne's World\," the basement of the Chicago home of Wayne's parents\, is suddenly a hot property. Based on the recurring Saturday Night Live sketches that featured Mike Myers and Dana Carvey\, Myers' screenplay was the basis for this 1992 comedy that grossed almost 10 times its $20 million budget.\n\n\n\nLocally sponsored by Rich Hartman's Five Star Dealerships\, Grays Harbor College\, Ray Kahler & Callie White\, Pasha Automotive Services\, Wunderland Childcare\, Alpha Media Grays Harbor\, and Jodesha Broadcasting.
X-ALT-DESC;FMTTYPE=text/html:<span style="color: rgb(75\, 79\, 86)\; font-family: Helvetica\, Arial\, sans-serif\; font-size: 14px\; background-color: rgb(255\, 255\, 255)\;">March 23 &amp\; 24 @ 7:30</span><br style="color: rgb(75\, 79\, 86)\; font-family: Helvetica\, Arial\, sans-serif\; font-size: 14px\; background-color: rgb(255\, 255\, 255)\;" />\n<span style="color: rgb(75\, 79\, 86)\; font-family: Helvetica\, Arial\, sans-serif\; font-size: 14px\; background-color: rgb(255\, 255\, 255)\;">Tickets are $6 for all ages.</span><br style="color: rgb(75\, 79\, 86)\; font-family: Helvetica\, Arial\, sans-serif\; font-size: 14px\; background-color: rgb(255\, 255\, 255)\;" />\n<span style="color: rgb(75\, 79\, 86)\; font-family: Helvetica\, Arial\, sans-serif\; font-size: 14px\; background-color: rgb(255\, 255\, 255)\;">Tickets are available at City Drug\, Crown Drug\, Harbor Drug\, online or at the door 30 minutes prior to the movie.</span><br style="color: rgb(75\, 79\, 86)\; font-family: Helvetica\, Arial\, sans-serif\; font-size: 14px\; background-color: rgb(255\, 255\, 255)\;" />\n<br style="color: rgb(75\, 79\, 86)\; font-family: Helvetica\, Arial\, sans-serif\; font-size: 14px\; background-color: rgb(255\, 255\, 255)\;" />\n<span style="color: rgb(75\, 79\, 86)\; font-family: Helvetica\, Arial\, sans-serif\; font-size: 14px\; background-color: rgb(255\, 255\, 255)\;">Slacker pals Wayne and Garth find the cable access TV show that they produce in what is literally &ldquo\;Wayne&rsquo\;s World\,&rdquo\; the basement of the Chicago home of Wayne&rsquo\;s parents\, is suddenly a hot property. Based on the recurring Saturday Night Live sketches that featured Mike Myers and Dana Carvey\, Myers&rsquo\; screenplay was the basis for this 1992 comedy that grossed almost 10 times its $20 million budget.</span><br style="color: rgb(75\, 79\, 86)\; font-family: Helvetica\, Arial\, sans-serif\; font-size: 14px\; background-color: rgb(255\, 255\, 255)\;" />\n<br style="color: rgb(75\, 79\, 86)\; font-family: Helvetica\, Arial\, sans-serif\; font-size: 14px\; background-color: rgb(255\, 255\, 255)\;" />\n<span style="color: rgb(75\, 79\, 86)\; font-family: Helvetica\, Arial\, sans-serif\; font-size: 14px\; background-color: rgb(255\, 255\, 255)\;">Locally sponsored by Rich Hartman&rsquo\;s Five Star Dealerships\, Grays Harbor College\, Ray Kahler &amp\; Callie White\, Pasha Automotive Services\, Wunderland Childcare\, Alpha Media Grays Harbor\, and Jodesha Broadcasting.</span>
LOCATION:7th Street Theatre Hoquiam\, WA
UID:e.26.10570
SEQUENCE:3
DTSTAMP:20260425T115720Z
URL:https://chamber.graysharbor.org/events/details/wayne-s-world-at-7th-street-theatre-10570
END:VEVENT

END:VCALENDAR
