BEGIN:VCALENDAR
VERSION:2.0
PRODID:-//ChamberMaster//Event Calendar 2.0//EN
METHOD:PUBLISH
X-PUBLISHED-TTL:P3D
REFRESH-INTERVAL:P3D
CALSCALE:GREGORIAN
BEGIN:VEVENT
DTSTART;VALUE=DATE:20170603
DTEND;VALUE=DATE:20170604
TRANSP:TRANSPARENT
X-MICROSOFT-CDO-ALLDAYEVENT:TRUE
SUMMARY:Wearable Art Show
DESCRIPTION:2017 Ocean Shores Wearable Art Show\n\nSomewhere in Time\n\nOver 75 vintages\, microbrewery tasting\, crafts\, food and fun!
X-ALT-DESC;FMTTYPE=text/html:<u><strong>2017 Ocean Shores Wearable Art Show</strong></u><br />\n<em>Somewhere in Time</em><br />\nOver 75 vintages\, microbrewery tasting\, crafts\, food and fun!
LOCATION:Ocean Shores Convention Center Ocean Shores\, WA
UID:e.26.6522
SEQUENCE:3
DTSTAMP:20260426T015326Z
URL:https://chamber.graysharbor.org/events/details/wearable-art-show-6522
END:VEVENT

END:VCALENDAR
